BEGIN:VCALENDAR
VERSION:2.0
PRODID:-//Stillwater Hospice - ECPv6.15.20//NONSGML v1.0//EN
CALSCALE:GREGORIAN
METHOD:PUBLISH
X-WR-CALNAME:Stillwater Hospice
X-ORIGINAL-URL:https://stillwater-hospice.org
X-WR-CALDESC:Events for Stillwater Hospice
REFRESH-INTERVAL;VALUE=DURATION:PT1H
X-Robots-Tag:noindex
X-PUBLISHED-TTL:PT1H
BEGIN:VTIMEZONE
TZID:America/Indiana/Indianapolis
BEGIN:DAYLIGHT
TZOFFSETFROM:-0500
TZOFFSETTO:-0400
TZNAME:EDT
DTSTART:20240310T070000
END:DAYLIGHT
BEGIN:STANDARD
TZOFFSETFROM:-0400
TZOFFSETTO:-0500
TZNAME:EST
DTSTART:20241103T060000
END:STANDARD
BEGIN:DAYLIGHT
TZOFFSETFROM:-0500
TZOFFSETTO:-0400
TZNAME:EDT
DTSTART:20250309T070000
END:DAYLIGHT
BEGIN:STANDARD
TZOFFSETFROM:-0400
TZOFFSETTO:-0500
TZNAME:EST
DTSTART:20251102T060000
END:STANDARD
BEGIN:DAYLIGHT
TZOFFSETFROM:-0500
TZOFFSETTO:-0400
TZNAME:EDT
DTSTART:20260308T070000
END:DAYLIGHT
BEGIN:STANDARD
TZOFFSETFROM:-0400
TZOFFSETTO:-0500
TZNAME:EST
DTSTART:20261101T060000
END:STANDARD
END:VTIMEZONE
BEGIN:VEVENT
DTSTART;TZID=America/Indiana/Indianapolis:20251101T103000
DTEND;TZID=America/Indiana/Indianapolis:20251101T140000
DTSTAMP:20260422T152117
CREATED:20250922T184448Z
LAST-MODIFIED:20250922T184615Z
UID:10004877-1761993000-1762005600@stillwater-hospice.org
SUMMARY:Griefsgiving
DESCRIPTION:The holidays can be difficult to navigate after a loved one dies. Learn tools to cope with stress and grief to create a sense of calm amid the hustle of all the upcoming holidays. Click here to complete the required registration by October 24th
URL:https://stillwater-hospice.org/event/griefsgiving/
LOCATION:The Peggy F. Murphy Community Grief Center\, 5920 Homestead Road\, Fort. Wayne\, IN\, 46814
ATTACH;FMTTYPE=image/jpeg:https://stillwater-hospice.org/wp-content/uploads/2025/09/Griefsgiving.jpg
END:VEVENT
END:VCALENDAR