BEGIN:VCALENDAR
VERSION:2.0
PRODID:-//Stillwater Hospice - ECPv6.15.20//NONSGML v1.0//EN
CALSCALE:GREGORIAN
METHOD:PUBLISH
X-WR-CALNAME:Stillwater Hospice
X-ORIGINAL-URL:https://stillwater-hospice.org
X-WR-CALDESC:Events for Stillwater Hospice
REFRESH-INTERVAL;VALUE=DURATION:PT1H
X-Robots-Tag:noindex
X-PUBLISHED-TTL:PT1H
BEGIN:VTIMEZONE
TZID:America/Indiana/Indianapolis
BEGIN:DAYLIGHT
TZOFFSETFROM:-0500
TZOFFSETTO:-0400
TZNAME:EDT
DTSTART:20240310T070000
END:DAYLIGHT
BEGIN:STANDARD
TZOFFSETFROM:-0400
TZOFFSETTO:-0500
TZNAME:EST
DTSTART:20241103T060000
END:STANDARD
BEGIN:DAYLIGHT
TZOFFSETFROM:-0500
TZOFFSETTO:-0400
TZNAME:EDT
DTSTART:20250309T070000
END:DAYLIGHT
BEGIN:STANDARD
TZOFFSETFROM:-0400
TZOFFSETTO:-0500
TZNAME:EST
DTSTART:20251102T060000
END:STANDARD
BEGIN:DAYLIGHT
TZOFFSETFROM:-0500
TZOFFSETTO:-0400
TZNAME:EDT
DTSTART:20260308T070000
END:DAYLIGHT
BEGIN:STANDARD
TZOFFSETFROM:-0400
TZOFFSETTO:-0500
TZNAME:EST
DTSTART:20261101T060000
END:STANDARD
END:VTIMEZONE
BEGIN:VEVENT
DTSTART;TZID=America/Indiana/Indianapolis:20251121T100000
DTEND;TZID=America/Indiana/Indianapolis:20251121T113000
DTSTAMP:20260422T152158
CREATED:20250919T201218Z
LAST-MODIFIED:20250919T201218Z
UID:10004870-1763719200-1763724600@stillwater-hospice.org
SUMMARY:Grief Hike: McNabb-Walter Nature Preserve
DESCRIPTION:Join us at McNabb-Walter Nature Preserve in Spencerville\, IN. The hike will start promptly at 10am. Please wear appropriate footwear and layers for the season. The trails are unpaved and can be muddy or have standing water in areas\, depending on the season. \nRegistration is required by November 17th
URL:https://stillwater-hospice.org/event/grief-hike-mcnabb-walter-nature-preserve/
LOCATION:McNabb-Walter Nature Preserve\, 16138 Davis Road\, Spencerville\, IN\, 46788\, United States
ATTACH;FMTTYPE=image/jpeg:https://stillwater-hospice.org/wp-content/uploads/2025/09/November-Hike.jpg
END:VEVENT
END:VCALENDAR