BEGIN:VCALENDAR
VERSION:2.0
PRODID:-//Stillwater Hospice - ECPv6.15.20//NONSGML v1.0//EN
CALSCALE:GREGORIAN
METHOD:PUBLISH
X-ORIGINAL-URL:https://stillwater-hospice.org
X-WR-CALDESC:Events for Stillwater Hospice
REFRESH-INTERVAL;VALUE=DURATION:PT1H
X-Robots-Tag:noindex
X-PUBLISHED-TTL:PT1H
BEGIN:VTIMEZONE
TZID:America/Indiana/Indianapolis
BEGIN:DAYLIGHT
TZOFFSETFROM:-0500
TZOFFSETTO:-0400
TZNAME:EDT
DTSTART:20240310T070000
END:DAYLIGHT
BEGIN:STANDARD
TZOFFSETFROM:-0400
TZOFFSETTO:-0500
TZNAME:EST
DTSTART:20241103T060000
END:STANDARD
BEGIN:DAYLIGHT
TZOFFSETFROM:-0500
TZOFFSETTO:-0400
TZNAME:EDT
DTSTART:20250309T070000
END:DAYLIGHT
BEGIN:STANDARD
TZOFFSETFROM:-0400
TZOFFSETTO:-0500
TZNAME:EST
DTSTART:20251102T060000
END:STANDARD
BEGIN:DAYLIGHT
TZOFFSETFROM:-0500
TZOFFSETTO:-0400
TZNAME:EDT
DTSTART:20260308T070000
END:DAYLIGHT
BEGIN:STANDARD
TZOFFSETFROM:-0400
TZOFFSETTO:-0500
TZNAME:EST
DTSTART:20261101T060000
END:STANDARD
END:VTIMEZONE
BEGIN:VEVENT
DTSTART;TZID=America/Indiana/Indianapolis:20251204T130000
DTEND;TZID=America/Indiana/Indianapolis:20251204T140000
DTSTAMP:20260422T135111
CREATED:20251104T191654Z
LAST-MODIFIED:20251104T191654Z
UID:10004970-1764853200-1764856800@stillwater-hospice.org
SUMMARY:Drum Circle
DESCRIPTION:In this community drum circle\, you will experience rhythm\, music and community bonding. Immerse yourself in the beat\, connect with friends and let the rhythm uplift your spirits. No experience necessary. \nClick here to complete the required registration by Friday\, November 28th.
URL:https://stillwater-hospice.org/event/drum-circle-4/
LOCATION:The Peggy F. Murphy Community Grief Center\, 5920 Homestead Road\, Fort. Wayne\, IN\, 46814
ATTACH;FMTTYPE=image/jpeg:https://stillwater-hospice.org/wp-content/uploads/2025/11/Promo.jpg
END:VEVENT
END:VCALENDAR