BEGIN:VCALENDAR
VERSION:2.0
PRODID:-//Stillwater Hospice - ECPv6.15.20//NONSGML v1.0//EN
CALSCALE:GREGORIAN
METHOD:PUBLISH
X-ORIGINAL-URL:https://stillwater-hospice.org
X-WR-CALDESC:Events for Stillwater Hospice
REFRESH-INTERVAL;VALUE=DURATION:PT1H
X-Robots-Tag:noindex
X-PUBLISHED-TTL:PT1H
BEGIN:VTIMEZONE
TZID:America/Indiana/Indianapolis
BEGIN:DAYLIGHT
TZOFFSETFROM:-0500
TZOFFSETTO:-0400
TZNAME:EDT
DTSTART:20250309T070000
END:DAYLIGHT
BEGIN:STANDARD
TZOFFSETFROM:-0400
TZOFFSETTO:-0500
TZNAME:EST
DTSTART:20251102T060000
END:STANDARD
BEGIN:DAYLIGHT
TZOFFSETFROM:-0500
TZOFFSETTO:-0400
TZNAME:EDT
DTSTART:20260308T070000
END:DAYLIGHT
BEGIN:STANDARD
TZOFFSETFROM:-0400
TZOFFSETTO:-0500
TZNAME:EST
DTSTART:20261101T060000
END:STANDARD
BEGIN:DAYLIGHT
TZOFFSETFROM:-0500
TZOFFSETTO:-0400
TZNAME:EDT
DTSTART:20270314T070000
END:DAYLIGHT
BEGIN:STANDARD
TZOFFSETFROM:-0400
TZOFFSETTO:-0500
TZNAME:EST
DTSTART:20271107T060000
END:STANDARD
END:VTIMEZONE
BEGIN:VEVENT
DTSTART;TZID=America/Indiana/Indianapolis:20260121T173000
DTEND;TZID=America/Indiana/Indianapolis:20260121T183000
DTSTAMP:20260422T123138
CREATED:20251218T192631Z
LAST-MODIFIED:20260211T194838Z
UID:10005086-1769016600-1769020200@stillwater-hospice.org
SUMMARY:MELT Method
DESCRIPTION:MELT is an easy to learn self-treatment method that can help with the common physical symptoms of grief. Restore your nervous system and releases stuck stress. Ease chronic pain and stiffness.**For the health & safety of our facilitators and participants\, please refrain from wearing scented lotions and perfumes.** \nClick here to complete the required registration the Friday prior to each session.
URL:https://stillwater-hospice.org/event/melt-method-5/2026-01-21/
LOCATION:The Peggy F. Murphy Community Grief Center\, 5920 Homestead Road\, Fort. Wayne\, IN\, 46814
ATTACH;FMTTYPE=image/jpeg:https://stillwater-hospice.org/wp-content/uploads/2025/12/MELT-General-Promo.jpg
END:VEVENT
BEGIN:VEVENT
DTSTART;TZID=America/Indiana/Indianapolis:20260121T180000
DTEND;TZID=America/Indiana/Indianapolis:20260121T190000
DTSTAMP:20260422T123138
CREATED:20221011T171631Z
LAST-MODIFIED:20250121T183852Z
UID:10002988-1769018400-1769022000@stillwater-hospice.org
SUMMARY:Pet Loss Grief Support Group
DESCRIPTION:For those who are grieving the loss of a beloved pet. \nRSVP required to attend. Please call (260) 435-3261 or email GriefCenter@stillwater-hospice.org to register by the Wednesday prior to the meeting date. \n 
URL:https://stillwater-hospice.org/event/pet-loss-grief-support-group/2026-01-21/
LOCATION:Peggy F. Murphy Community Grief Center\, 5920 Homestead Road\, Fort Wayne\, IN\, 46814
END:VEVENT
BEGIN:VEVENT
DTSTART;TZID=America/Indiana/Indianapolis:20260121T180000
DTEND;TZID=America/Indiana/Indianapolis:20260121T193000
DTSTAMP:20260422T123138
CREATED:20251218T190619Z
LAST-MODIFIED:20260114T221823Z
UID:10005062-1769018400-1769023800@stillwater-hospice.org
SUMMARY:Knitting 101: 4-Week Series
DESCRIPTION:Knitting has been known to be a meditative hobby as a creative outlet that can help reduce stress. Learn the basic skills of knitting in this series. Supplies will be provided. For proper supply planning\, registration is required to attend. For continued participation\, attendance the first week is required. **For the health & safety of our facilitators and participants\, please refrain from wearing scented lotions and perfumes.** \nClick here to complete the required registration by January 2nd.
URL:https://stillwater-hospice.org/event/knitting-101-4-week-series/2026-01-21/
LOCATION:The Peggy F. Murphy Community Grief Center\, 5920 Homestead Road\, Fort. Wayne\, IN\, 46814
ATTACH;FMTTYPE=image/jpeg:https://stillwater-hospice.org/wp-content/uploads/2025/12/Knitting.jpg
END:VEVENT
END:VCALENDAR