BEGIN:VCALENDAR
VERSION:2.0
PRODID:-//Stillwater Hospice - ECPv6.15.20//NONSGML v1.0//EN
CALSCALE:GREGORIAN
METHOD:PUBLISH
X-ORIGINAL-URL:https://stillwater-hospice.org
X-WR-CALDESC:Events for Stillwater Hospice
REFRESH-INTERVAL;VALUE=DURATION:PT1H
X-Robots-Tag:noindex
X-PUBLISHED-TTL:PT1H
BEGIN:VTIMEZONE
TZID:America/Indiana/Indianapolis
BEGIN:DAYLIGHT
TZOFFSETFROM:-0500
TZOFFSETTO:-0400
TZNAME:EDT
DTSTART:20250309T070000
END:DAYLIGHT
BEGIN:STANDARD
TZOFFSETFROM:-0400
TZOFFSETTO:-0500
TZNAME:EST
DTSTART:20251102T060000
END:STANDARD
BEGIN:DAYLIGHT
TZOFFSETFROM:-0500
TZOFFSETTO:-0400
TZNAME:EDT
DTSTART:20260308T070000
END:DAYLIGHT
BEGIN:STANDARD
TZOFFSETFROM:-0400
TZOFFSETTO:-0500
TZNAME:EST
DTSTART:20261101T060000
END:STANDARD
BEGIN:DAYLIGHT
TZOFFSETFROM:-0500
TZOFFSETTO:-0400
TZNAME:EDT
DTSTART:20270314T070000
END:DAYLIGHT
BEGIN:STANDARD
TZOFFSETFROM:-0400
TZOFFSETTO:-0500
TZNAME:EST
DTSTART:20271107T060000
END:STANDARD
END:VTIMEZONE
BEGIN:VEVENT
DTSTART;TZID=America/Indiana/Indianapolis:20260313T090000
DTEND;TZID=America/Indiana/Indianapolis:20260313T150000
DTSTAMP:20260422T093037
CREATED:20260130T142519Z
LAST-MODIFIED:20260202T152511Z
UID:10005537-1773392400-1773414000@stillwater-hospice.org
SUMMARY:2026 Conference on Grief: SOLD OUT
DESCRIPTION:Join us for the second annual Conference on Grief. The day will include 4 sessions covering various topics on grief. 4 CEUs will be provided\, including 1 hour of Ethics\, for Social Workers and Healthcare Facility Administrators. REGISTRATION IS FULL! Click here to sign up for our waitlist.
URL:https://stillwater-hospice.org/event/2026-conference-on-grief/
LOCATION:The Peggy F. Murphy Community Grief Center\, 5920 Homestead Road\, Fort. Wayne\, IN\, 46814
ATTACH;FMTTYPE=application/pdf:https://stillwater-hospice.org/wp-content/uploads/2026/01/Final-2026-Grief-Conference-Flyer.pdf
END:VEVENT
END:VCALENDAR