BEGIN:VCALENDAR
VERSION:2.0
PRODID:-//Stillwater Hospice - ECPv6.15.20//NONSGML v1.0//EN
CALSCALE:GREGORIAN
METHOD:PUBLISH
X-ORIGINAL-URL:https://stillwater-hospice.org
X-WR-CALDESC:Events for Stillwater Hospice
REFRESH-INTERVAL;VALUE=DURATION:PT1H
X-Robots-Tag:noindex
X-PUBLISHED-TTL:PT1H
BEGIN:VTIMEZONE
TZID:America/Indiana/Indianapolis
BEGIN:DAYLIGHT
TZOFFSETFROM:-0500
TZOFFSETTO:-0400
TZNAME:EDT
DTSTART:20250309T070000
END:DAYLIGHT
BEGIN:STANDARD
TZOFFSETFROM:-0400
TZOFFSETTO:-0500
TZNAME:EST
DTSTART:20251102T060000
END:STANDARD
BEGIN:DAYLIGHT
TZOFFSETFROM:-0500
TZOFFSETTO:-0400
TZNAME:EDT
DTSTART:20260308T070000
END:DAYLIGHT
BEGIN:STANDARD
TZOFFSETFROM:-0400
TZOFFSETTO:-0500
TZNAME:EST
DTSTART:20261101T060000
END:STANDARD
BEGIN:DAYLIGHT
TZOFFSETFROM:-0500
TZOFFSETTO:-0400
TZNAME:EDT
DTSTART:20270314T070000
END:DAYLIGHT
BEGIN:STANDARD
TZOFFSETFROM:-0400
TZOFFSETTO:-0500
TZNAME:EST
DTSTART:20271107T060000
END:STANDARD
END:VTIMEZONE
BEGIN:VEVENT
DTSTART;TZID=America/Indiana/Indianapolis:20260606T103000
DTEND;TZID=America/Indiana/Indianapolis:20260606T140000
DTSTAMP:20260422T092840
CREATED:20260421T151733Z
LAST-MODIFIED:20260421T152057Z
UID:10005723-1780741800-1780754400@stillwater-hospice.org
SUMMARY:Remembering Dad
DESCRIPTION:Half-day retreat for any adult who has experienced the loss of their father. This event will serve as a time to reflect\, reminisce\, and remember their dad or fatherly figure. The day will include a variety of experiences and tools to help navigate Father’s Day. Registration for all participants required to attend. Registration opens at the beginning of May. \nClick here to complete the required registration by May 29th
URL:https://stillwater-hospice.org/event/remembering-dad-2/
LOCATION:The Peggy F. Murphy Community Grief Center\, 5920 Homestead Road\, Fort. Wayne\, IN\, 46814
ATTACH;FMTTYPE=image/jpeg:https://stillwater-hospice.org/wp-content/uploads/2026/04/Remembering-Dad.jpg
END:VEVENT
END:VCALENDAR