BEGIN:VCALENDAR
VERSION:2.0
PRODID:-//Stillwater Hospice - ECPv6.15.20//NONSGML v1.0//EN
CALSCALE:GREGORIAN
METHOD:PUBLISH
X-ORIGINAL-URL:https://stillwater-hospice.org
X-WR-CALDESC:Events for Stillwater Hospice
REFRESH-INTERVAL;VALUE=DURATION:PT1H
X-Robots-Tag:noindex
X-PUBLISHED-TTL:PT1H
BEGIN:VTIMEZONE
TZID:America/Indiana/Indianapolis
BEGIN:DAYLIGHT
TZOFFSETFROM:-0500
TZOFFSETTO:-0400
TZNAME:EDT
DTSTART:20250309T070000
END:DAYLIGHT
BEGIN:STANDARD
TZOFFSETFROM:-0400
TZOFFSETTO:-0500
TZNAME:EST
DTSTART:20251102T060000
END:STANDARD
BEGIN:DAYLIGHT
TZOFFSETFROM:-0500
TZOFFSETTO:-0400
TZNAME:EDT
DTSTART:20260308T070000
END:DAYLIGHT
BEGIN:STANDARD
TZOFFSETFROM:-0400
TZOFFSETTO:-0500
TZNAME:EST
DTSTART:20261101T060000
END:STANDARD
BEGIN:DAYLIGHT
TZOFFSETFROM:-0500
TZOFFSETTO:-0400
TZNAME:EDT
DTSTART:20270314T070000
END:DAYLIGHT
BEGIN:STANDARD
TZOFFSETFROM:-0400
TZOFFSETTO:-0500
TZNAME:EST
DTSTART:20271107T060000
END:STANDARD
END:VTIMEZONE
BEGIN:VEVENT
DTSTART;TZID=America/Indiana/Indianapolis:20261029T180000
DTEND;TZID=America/Indiana/Indianapolis:20261029T190000
DTSTAMP:20260422T180340
CREATED:20251218T191419Z
LAST-MODIFIED:20251218T195202Z
UID:10005073-1793296800-1793300400@stillwater-hospice.org
SUMMARY:Embodied Dance Movement
DESCRIPTION:This practice focuses on connecting with your body and emotions\, then moving and expressing from that place in response to music. You will be given cues\, practices\, and tools to be guided into your body and move with curiosity. Express and shift your mood through movement! Participants can practice in a chair or moving on the floor. **For the health & safety of our facilitators and participants\, please refrain from wearing scented lotions and perfumes.** \nClick here to complete the required registration by the Friday prior to each session.
URL:https://stillwater-hospice.org/event/embodied-dance-movement-quarterly-sessions/2026-10-29/
LOCATION:The Peggy F. Murphy Community Grief Center\, 5920 Homestead Road\, Fort. Wayne\, IN\, 46814
ATTACH;FMTTYPE=image/jpeg:https://stillwater-hospice.org/wp-content/uploads/2025/12/Soma-Dance.jpg
END:VEVENT
END:VCALENDAR