BEGIN:VCALENDAR
VERSION:2.0
PRODID:-//Stillwater Hospice - ECPv6.15.20//NONSGML v1.0//EN
CALSCALE:GREGORIAN
METHOD:PUBLISH
X-WR-CALNAME:Stillwater Hospice
X-ORIGINAL-URL:https://stillwater-hospice.org
X-WR-CALDESC:Events for Stillwater Hospice
REFRESH-INTERVAL;VALUE=DURATION:PT1H
X-Robots-Tag:noindex
X-PUBLISHED-TTL:PT1H
BEGIN:VTIMEZONE
TZID:America/Indiana/Indianapolis
BEGIN:DAYLIGHT
TZOFFSETFROM:-0500
TZOFFSETTO:-0400
TZNAME:EDT
DTSTART:20240310T070000
END:DAYLIGHT
BEGIN:STANDARD
TZOFFSETFROM:-0400
TZOFFSETTO:-0500
TZNAME:EST
DTSTART:20241103T060000
END:STANDARD
BEGIN:DAYLIGHT
TZOFFSETFROM:-0500
TZOFFSETTO:-0400
TZNAME:EDT
DTSTART:20250309T070000
END:DAYLIGHT
BEGIN:STANDARD
TZOFFSETFROM:-0400
TZOFFSETTO:-0500
TZNAME:EST
DTSTART:20251102T060000
END:STANDARD
BEGIN:DAYLIGHT
TZOFFSETFROM:-0500
TZOFFSETTO:-0400
TZNAME:EDT
DTSTART:20260308T070000
END:DAYLIGHT
BEGIN:STANDARD
TZOFFSETFROM:-0400
TZOFFSETTO:-0500
TZNAME:EST
DTSTART:20261101T060000
END:STANDARD
END:VTIMEZONE
BEGIN:VEVENT
DTSTART;TZID=America/Indiana/Indianapolis:20250901T183000
DTEND;TZID=America/Indiana/Indianapolis:20250901T193000
DTSTAMP:20260422T164959
CREATED:20250822T194402Z
LAST-MODIFIED:20250822T194403Z
UID:10003269-1756751400-1756755000@stillwater-hospice.org
SUMMARY:Stellhorn Grief Support Group
DESCRIPTION:For any loss due to death. 1st & 3rd Monday of each month • 6:30-7:30 p.m. Please call (260) 435-3261 to register. RSVPs are needed by the Wednesday prior to the meeting date.
URL:https://stillwater-hospice.org/event/stellhorn-grief-support-group-3/
LOCATION:Messiah Lutheran Church\, 7211 Stellhorn Road\, Fort Wayne\, IN\, 46815
END:VEVENT
BEGIN:VEVENT
DTSTART;TZID=America/Indiana/Indianapolis:20250903T100000
DTEND;TZID=America/Indiana/Indianapolis:20250903T105000
DTSTAMP:20260422T164959
CREATED:20250724T161748Z
LAST-MODIFIED:20250724T161748Z
UID:10004727-1756893600-1756896600@stillwater-hospice.org
SUMMARY:Yoga for Respite and Restoration
DESCRIPTION:1st and 3rd Wednesdays: September-December | 10:00-10:50 AM **DUE TO LIMITED SPACE\, REGISTRATION IS REQUIRED FOR EACH SESSION** Register online by the Monday prior to each session. This 50-minute practice is designed for rest through mindful movements\, breathing\, and meditation. You can practice in a chair or on a mat. No experience is required. \nClick here to register by the Monday prior to each session.
URL:https://stillwater-hospice.org/event/yoga-for-respite-and-restoration-6/2025-09-03/
LOCATION:The Peggy F. Murphy Community Grief Center\, 5920 Homestead Road\, Fort. Wayne\, IN\, 46814
ATTACH;FMTTYPE=image/jpeg:https://stillwater-hospice.org/wp-content/uploads/2025/07/Fall-Yoga.jpg
END:VEVENT
BEGIN:VEVENT
DTSTART;TZID=America/Indiana/Indianapolis:20250904T130000
DTEND;TZID=America/Indiana/Indianapolis:20250904T140000
DTSTAMP:20260422T164959
CREATED:20250801T145657Z
LAST-MODIFIED:20250801T145657Z
UID:10004756-1756990800-1756994400@stillwater-hospice.org
SUMMARY:Drum Circle
DESCRIPTION:In this community drum circle\, you will experience rhythm\, music and community bonding. Immerse yourself in the beat\, connect with friends and let the rhythm uplift your spirits. No experience necessary. \nClick here to complete the required registration by Friday\, August 29th
URL:https://stillwater-hospice.org/event/drum-circle-3/
LOCATION:The Peggy F. Murphy Community Grief Center\, 5920 Homestead Road\, Fort. Wayne\, IN\, 46814
ATTACH;FMTTYPE=image/jpeg:https://stillwater-hospice.org/wp-content/uploads/2025/08/DrumCircleSocial.jpg
END:VEVENT
BEGIN:VEVENT
DTSTART;TZID=America/Indiana/Indianapolis:20250904T153000
DTEND;TZID=America/Indiana/Indianapolis:20250904T170000
DTSTAMP:20260422T164959
CREATED:20250731T181246Z
LAST-MODIFIED:20250731T181246Z
UID:10004751-1756999800-1757005200@stillwater-hospice.org
SUMMARY:Invisible Ink
DESCRIPTION:For continued participation\, attendance the first week is required. \nInvisible Ink is a 4-week writing program for anyone needing help with expressing and processing their grief to find greater healing. Writing prompts are provided each week\, in which participants write about specific feelings through letters to their loved one. \nClick here to register by August 29th
URL:https://stillwater-hospice.org/event/invisible-ink-465/2025-09-04/
LOCATION:The Peggy F. Murphy Community Grief Center\, 5920 Homestead Road\, Fort. Wayne\, IN\, 46814
ATTACH;FMTTYPE=image/jpeg:https://stillwater-hospice.org/wp-content/uploads/2025/07/Invisible-Ink-Social-1.jpg
END:VEVENT
BEGIN:VEVENT
DTSTART;TZID=America/Indiana/Indianapolis:20250904T190000
DTEND;TZID=America/Indiana/Indianapolis:20250904T203000
DTSTAMP:20260422T164959
CREATED:20250122T214112Z
LAST-MODIFIED:20250122T214112Z
UID:10004162-1757012400-1757017800@stillwater-hospice.org
SUMMARY:Compassionate Friends
DESCRIPTION:For grieving parents\, grandparents & siblings the Thursday following the first Tuesday each month • 7 p.m.\nContact Kelly Pulley & Katy Leach for meeting locations:(260) 255-4530\, leave a message to receive a return call. No meetings in July or December.
URL:https://stillwater-hospice.org/event/compassionate-friends-2/2025-09-04/
LOCATION:The Peggy F. Murphy Community Grief Center\, 5920 Homestead Road\, Fort. Wayne\, IN\, 46814
END:VEVENT
BEGIN:VEVENT
DTSTART;TZID=America/Indiana/Indianapolis:20250905T100000
DTEND;TZID=America/Indiana/Indianapolis:20250905T120000
DTSTAMP:20260422T164959
CREATED:20250724T203048Z
LAST-MODIFIED:20250724T203048Z
UID:10004736-1757066400-1757073600@stillwater-hospice.org
SUMMARY:Wellness Coaching Cohort
DESCRIPTION:Living alongside grief can impact various areas of your life\, some might feel depleted. In your group wellness coaching cohort\, you will create a wellness vision to guide any goals you may have to work alongside your grief in changing your habits holistically. Each participant can choose to schedule up to 3 individual coaching sessions with the cohort facilitator after the group session; to be used within the quarter. \nClick here to register by Friday\, August 29th.
URL:https://stillwater-hospice.org/event/wellness-coaching-cohort-2/
LOCATION:The Peggy F. Murphy Community Grief Center\, 5920 Homestead Road\, Fort. Wayne\, IN\, 46814
ATTACH;FMTTYPE=image/jpeg:https://stillwater-hospice.org/wp-content/uploads/2025/07/Promo-WCC.jpg
END:VEVENT
BEGIN:VEVENT
DTSTART;TZID=America/Indiana/Indianapolis:20250908T183000
DTEND;TZID=America/Indiana/Indianapolis:20250908T200000
DTSTAMP:20260422T164959
CREATED:20221011T184914Z
LAST-MODIFIED:20251219T164736Z
UID:10003955-1757356200-1757361600@stillwater-hospice.org
SUMMARY:LGBTQ+ Grief Support Group
DESCRIPTION:For members of the LGBTQ+ community who have lost partners or loved ones\n2nd Monday of each month • 6:30-8 p.m. \nPlease call (260) 435-3261 or email GriefCenter@stillwater-hospice.org by the Wednesday prior to each meeting to complete the required registration.
URL:https://stillwater-hospice.org/event/lgbtq-grief-support-group/2025-09-08/
LOCATION:Fort Wayne Pride Center\, 527 W. Berrry St.\, Fort Wayne\, IN\, 46802\, United States
END:VEVENT
BEGIN:VEVENT
DTSTART;TZID=America/Indiana/Indianapolis:20250909T173000
DTEND;TZID=America/Indiana/Indianapolis:20250909T190000
DTSTAMP:20260422T164959
CREATED:20231206T190243Z
LAST-MODIFIED:20251219T164441Z
UID:10002605-1757439000-1757444400@stillwater-hospice.org
SUMMARY:General Loss Grief Support Group
DESCRIPTION:For any adult experiencing grief due to the death of a loved one.
URL:https://stillwater-hospice.org/event/general-loss-grief-support-group/2025-09-09/
LOCATION:IN
END:VEVENT
BEGIN:VEVENT
DTSTART;TZID=America/Indiana/Indianapolis:20250909T180000
DTEND;TZID=America/Indiana/Indianapolis:20250909T193000
DTSTAMP:20260422T164959
CREATED:20221011T184737Z
LAST-MODIFIED:20251219T164825Z
UID:10003435-1757440800-1757446200@stillwater-hospice.org
SUMMARY:Auburn Grief Support Group
DESCRIPTION:For any loss due to death\n2nd & 4th Tuesday of each month • 6-7:30 p.m.\nPlease call (260) 435-3261 or email GriefCenter@stillwater-hospice.org by the Wednesday prior to each meeting to complete the required registration.
URL:https://stillwater-hospice.org/event/auburn-grief-support-group-3/2025-09-09/
LOCATION:First Christian Church\, 910 N. Indiana Ave.\, Auburn\, IN\, United States
END:VEVENT
BEGIN:VEVENT
DTSTART;TZID=America/Indiana/Indianapolis:20250910T140000
DTEND;TZID=America/Indiana/Indianapolis:20250910T153000
DTSTAMP:20260422T164959
CREATED:20221011T195921Z
LAST-MODIFIED:20221011T200219Z
UID:10003505-1757512800-1757518200@stillwater-hospice.org
SUMMARY:Women's Afternoon Grief Support Group
DESCRIPTION:After the death of a spouse or significant other 2nd & 4th Wednesday of each month • 2-3:30 p.m.
URL:https://stillwater-hospice.org/event/womens-afternoon-grief-support-group/2025-09-10/
LOCATION:Peggy F. Murphy Community Grief Center\, 5920 Homestead Road\, Fort Wayne\, IN\, 46814
END:VEVENT
BEGIN:VEVENT
DTSTART;TZID=America/Indiana/Indianapolis:20250910T190000
DTEND;TZID=America/Indiana/Indianapolis:20250910T203000
DTSTAMP:20260422T164959
CREATED:20250703T142948Z
LAST-MODIFIED:20250703T142949Z
UID:10003216-1757530800-1757536200@stillwater-hospice.org
SUMMARY:We the Living Grief Support Group
DESCRIPTION:Support group for those grieving the loss of someone to suicide.
URL:https://stillwater-hospice.org/event/we-the-living-grief-support-group-3/
LOCATION:Peggy F. Murphy Community Grief Center\, 5920 Homestead Road\, Fort Wayne\, IN\, 46814
END:VEVENT
BEGIN:VEVENT
DTSTART;TZID=America/Indiana/Indianapolis:20250911T153000
DTEND;TZID=America/Indiana/Indianapolis:20250911T170000
DTSTAMP:20260422T164959
CREATED:20250731T181246Z
LAST-MODIFIED:20250731T181246Z
UID:10004752-1757604600-1757610000@stillwater-hospice.org
SUMMARY:Invisible Ink
DESCRIPTION:For continued participation\, attendance the first week is required. \nInvisible Ink is a 4-week writing program for anyone needing help with expressing and processing their grief to find greater healing. Writing prompts are provided each week\, in which participants write about specific feelings through letters to their loved one. \nClick here to register by August 29th
URL:https://stillwater-hospice.org/event/invisible-ink-465/2025-09-11/
LOCATION:The Peggy F. Murphy Community Grief Center\, 5920 Homestead Road\, Fort. Wayne\, IN\, 46814
ATTACH;FMTTYPE=image/jpeg:https://stillwater-hospice.org/wp-content/uploads/2025/07/Invisible-Ink-Social-1.jpg
END:VEVENT
BEGIN:VEVENT
DTSTART;TZID=America/Indiana/Indianapolis:20250913T100000
DTEND;TZID=America/Indiana/Indianapolis:20250913T113000
DTSTAMP:20260422T164959
CREATED:20240411T170058Z
LAST-MODIFIED:20251003T154334Z
UID:10002858-1757757600-1757763000@stillwater-hospice.org
SUMMARY:Death Cafe
DESCRIPTION:Held the 2nd Saturday of every month. 10-11:30am. \nA group-directed discussion on death and dying over coffee or tea and baked goods. No agenda\, objectives\, or themes. This is not a grief support group\, space to process grief\, or educational seminar. Click here to RSVP by the Wednesday prior to the meeting time. 
URL:https://stillwater-hospice.org/event/death-cafe-2024/2025-09-13/
LOCATION:The Peggy F. Murphy Community Grief Center\, 5920 Homestead Road\, Fort. Wayne\, IN\, 46814
ATTACH;FMTTYPE=image/jpeg:https://stillwater-hospice.org/wp-content/uploads/2024/04/Death-Cafe-General.jpg
END:VEVENT
BEGIN:VEVENT
DTSTART;TZID=America/Indiana/Indianapolis:20250915T174500
DTEND;TZID=America/Indiana/Indianapolis:20250915T191500
DTSTAMP:20260422T164959
CREATED:20221011T183851Z
LAST-MODIFIED:20250530T171802Z
UID:10002354-1757958300-1757963700@stillwater-hospice.org
SUMMARY:Women's Evening Grief Support Group
DESCRIPTION:After the death of a spouse or significant other 3rd Monday of each month • 5:45-7:15 p.m. \n 
URL:https://stillwater-hospice.org/event/womens-evening-grief-support-group/2025-09-15/
LOCATION:Peggy F. Murphy Community Grief Center\, 5920 Homestead Road\, Fort Wayne\, IN\, 46814
END:VEVENT
BEGIN:VEVENT
DTSTART;TZID=America/Indiana/Indianapolis:20250915T183000
DTEND;TZID=America/Indiana/Indianapolis:20250915T193000
DTSTAMP:20260422T164959
CREATED:20221013T100006Z
LAST-MODIFIED:20230425T222531Z
UID:10003565-1757961000-1757964600@stillwater-hospice.org
SUMMARY:Stellhorn Grief Support Group
DESCRIPTION:For any loss due to death. 1st & 3rd Monday of each month • 6:30-7:30 p.m. Please call (260) 435-3261 to register. RSVPs are needed by the Wednesday prior to the meeting date.
URL:https://stillwater-hospice.org/event/stellhorn-grief-support-group-2/2025-09-15/
LOCATION:Messiah Lutheran Church\, 7211 Stellhorn Road\, Fort Wayne\, IN\, 46815
END:VEVENT
BEGIN:VEVENT
DTSTART;TZID=America/Indiana/Indianapolis:20250917T080000
DTEND;TZID=America/Indiana/Indianapolis:20250917T170000
DTSTAMP:20260422T164959
CREATED:20250724T161842Z
LAST-MODIFIED:20250724T161842Z
UID:10004731-1758096000-1758128400@stillwater-hospice.org
SUMMARY:Yoga for Respite and Restoration
DESCRIPTION:1st and 3rd Wednesdays: September-December | 10:00-10:50 AM **DUE TO LIMITED SPACE\, REGISTRATION IS REQUIRED FOR EACH SESSION** Register online by the Monday prior to each session. This 50-minute practice is designed for rest through mindful movements\, breathing\, and meditation. You can practice in a chair or on a mat. No experience is required. \nClick here to register by the Monday prior to each session.
URL:https://stillwater-hospice.org/event/yoga-for-respite-and-restoration-7/2025-09-17/
LOCATION:IN
ATTACH;FMTTYPE=image/jpeg:https://stillwater-hospice.org/wp-content/uploads/2025/07/Fall-Yoga.jpg
END:VEVENT
BEGIN:VEVENT
DTSTART;TZID=America/Indiana/Indianapolis:20250917T180000
DTEND;TZID=America/Indiana/Indianapolis:20250917T190000
DTSTAMP:20260422T164959
CREATED:20221011T171631Z
LAST-MODIFIED:20250121T183852Z
UID:10002984-1758132000-1758135600@stillwater-hospice.org
SUMMARY:Pet Loss Grief Support Group
DESCRIPTION:For those who are grieving the loss of a beloved pet. \nRSVP required to attend. Please call (260) 435-3261 or email GriefCenter@stillwater-hospice.org to register by the Wednesday prior to the meeting date. \n 
URL:https://stillwater-hospice.org/event/pet-loss-grief-support-group/2025-09-17/
LOCATION:Peggy F. Murphy Community Grief Center\, 5920 Homestead Road\, Fort Wayne\, IN\, 46814
END:VEVENT
BEGIN:VEVENT
DTSTART;TZID=America/Indiana/Indianapolis:20250918T153000
DTEND;TZID=America/Indiana/Indianapolis:20250918T170000
DTSTAMP:20260422T164959
CREATED:20250731T181246Z
LAST-MODIFIED:20250731T181246Z
UID:10004753-1758209400-1758214800@stillwater-hospice.org
SUMMARY:Invisible Ink
DESCRIPTION:For continued participation\, attendance the first week is required. \nInvisible Ink is a 4-week writing program for anyone needing help with expressing and processing their grief to find greater healing. Writing prompts are provided each week\, in which participants write about specific feelings through letters to their loved one. \nClick here to register by August 29th
URL:https://stillwater-hospice.org/event/invisible-ink-465/2025-09-18/
LOCATION:The Peggy F. Murphy Community Grief Center\, 5920 Homestead Road\, Fort. Wayne\, IN\, 46814
ATTACH;FMTTYPE=image/jpeg:https://stillwater-hospice.org/wp-content/uploads/2025/07/Invisible-Ink-Social-1.jpg
END:VEVENT
BEGIN:VEVENT
DTSTART;TZID=America/Indiana/Indianapolis:20250919T100000
DTEND;TZID=America/Indiana/Indianapolis:20250919T113000
DTSTAMP:20260422T164959
CREATED:20250801T152140Z
LAST-MODIFIED:20250801T152140Z
UID:10004757-1758276000-1758281400@stillwater-hospice.org
SUMMARY:Grief Hike: James P Covell Nature Preserve
DESCRIPTION:Join us at James Covell Preserve in Auburn\, IN. The hike will start promptly at 10am. Please wear appropriate footwear and layers for the season. The trails are unpaved and can be muddy or have standing water in areas\, depending on the season.\n\n\n\n\nClick here to complete the required registration by September 15th
URL:https://stillwater-hospice.org/event/grief-hike-james-p-covell-nature-preserve/
LOCATION:James P. Covell Nature Preserve\, 2727 County Rd 52\, Auburn\, IN\, 46706\, United States
ATTACH;FMTTYPE=image/jpeg:https://stillwater-hospice.org/wp-content/uploads/2025/08/September-Hike.jpg
END:VEVENT
BEGIN:VEVENT
DTSTART;TZID=America/Indiana/Indianapolis:20250922T183000
DTEND;TZID=America/Indiana/Indianapolis:20250922T200000
DTSTAMP:20260422T164959
CREATED:20250505T194940Z
LAST-MODIFIED:20260126T145141Z
UID:10004427-1758565800-1758571200@stillwater-hospice.org
SUMMARY:Finding Hope
DESCRIPTION:For those who have lost a loved one to suicide completion. 4th Monday of every month. \nRSVP required by the Wednesday prior to meeting. Register by emailing GriefCenter@stillwater-hospice.org or calling 260-435-3261.
URL:https://stillwater-hospice.org/event/finding-hope-2/2025-09-22/
LOCATION:Peggy F. Murphy Community Grief Center\, 5920 Homestead Road\, Fort Wayne\, IN\, 46814
END:VEVENT
BEGIN:VEVENT
DTSTART;TZID=America/Indiana/Indianapolis:20250923T173000
DTEND;TZID=America/Indiana/Indianapolis:20250923T190000
DTSTAMP:20260422T164959
CREATED:20231206T190420Z
LAST-MODIFIED:20241119T211115Z
UID:10002664-1758648600-1758654000@stillwater-hospice.org
SUMMARY:General Loss Grief Support Group
DESCRIPTION:For any adult experiencing grief due to the death of a loved one.
URL:https://stillwater-hospice.org/event/general-loss-grief-support-group-2/2025-09-23/
LOCATION:Peggy F. Murphy Community Grief Center\, 5920 Homestead Road\, Fort Wayne\, IN\, 46814
END:VEVENT
BEGIN:VEVENT
DTSTART;TZID=America/Indiana/Indianapolis:20250923T180000
DTEND;TZID=America/Indiana/Indianapolis:20250923T193000
DTSTAMP:20260422T164959
CREATED:20221109T230157Z
LAST-MODIFIED:20251219T164757Z
UID:10004057-1758650400-1758655800@stillwater-hospice.org
SUMMARY:Auburn Grief Support Group
DESCRIPTION:For any loss due to death\n2nd & 4th Tuesday of each month • 6-7:30 p.m.\nPlease call (260) 435-3261 or email GriefCenter@stillwater-hospice.org by the Wednesday prior to each meeting to complete the required registration.
URL:https://stillwater-hospice.org/event/auburn-grief-support-group-2/2025-09-23/
LOCATION:First Christian Church\, 910 N. Indiana Ave.\, Auburn\, IN\, United States
END:VEVENT
BEGIN:VEVENT
DTSTART;TZID=America/Indiana/Indianapolis:20250924T140000
DTEND;TZID=America/Indiana/Indianapolis:20250924T153000
DTSTAMP:20260422T164959
CREATED:20250530T171616Z
LAST-MODIFIED:20251219T165012Z
UID:10004488-1758722400-1758727800@stillwater-hospice.org
SUMMARY:Women's Afternoon Grief Support Group
DESCRIPTION:After the death of a spouse or significant other 2nd & 4th Wednesday of each month • 2-3:30 p.m.
URL:https://stillwater-hospice.org/event/womens-afternoon-grief-support-group-2/2025-09-24/
LOCATION:The Peggy F. Murphy Community Grief Center\, 5920 Homestead Road\, Fort. Wayne\, IN\, 46814
END:VEVENT
BEGIN:VEVENT
DTSTART;TZID=America/Indiana/Indianapolis:20250925T153000
DTEND;TZID=America/Indiana/Indianapolis:20250925T170000
DTSTAMP:20260422T164959
CREATED:20250731T181246Z
LAST-MODIFIED:20250731T181246Z
UID:10004754-1758814200-1758819600@stillwater-hospice.org
SUMMARY:Invisible Ink
DESCRIPTION:For continued participation\, attendance the first week is required. \nInvisible Ink is a 4-week writing program for anyone needing help with expressing and processing their grief to find greater healing. Writing prompts are provided each week\, in which participants write about specific feelings through letters to their loved one. \nClick here to register by August 29th
URL:https://stillwater-hospice.org/event/invisible-ink-465/2025-09-25/
LOCATION:The Peggy F. Murphy Community Grief Center\, 5920 Homestead Road\, Fort. Wayne\, IN\, 46814
ATTACH;FMTTYPE=image/jpeg:https://stillwater-hospice.org/wp-content/uploads/2025/07/Invisible-Ink-Social-1.jpg
END:VEVENT
END:VCALENDAR