BEGIN:VCALENDAR
VERSION:2.0
PRODID:-//Stillwater Hospice - ECPv6.15.20//NONSGML v1.0//EN
CALSCALE:GREGORIAN
METHOD:PUBLISH
X-WR-CALNAME:Stillwater Hospice
X-ORIGINAL-URL:https://stillwater-hospice.org
X-WR-CALDESC:Events for Stillwater Hospice
REFRESH-INTERVAL;VALUE=DURATION:PT1H
X-Robots-Tag:noindex
X-PUBLISHED-TTL:PT1H
BEGIN:VTIMEZONE
TZID:America/Indiana/Indianapolis
BEGIN:DAYLIGHT
TZOFFSETFROM:-0500
TZOFFSETTO:-0400
TZNAME:EDT
DTSTART:20240310T070000
END:DAYLIGHT
BEGIN:STANDARD
TZOFFSETFROM:-0400
TZOFFSETTO:-0500
TZNAME:EST
DTSTART:20241103T060000
END:STANDARD
BEGIN:DAYLIGHT
TZOFFSETFROM:-0500
TZOFFSETTO:-0400
TZNAME:EDT
DTSTART:20250309T070000
END:DAYLIGHT
BEGIN:STANDARD
TZOFFSETFROM:-0400
TZOFFSETTO:-0500
TZNAME:EST
DTSTART:20251102T060000
END:STANDARD
BEGIN:DAYLIGHT
TZOFFSETFROM:-0500
TZOFFSETTO:-0400
TZNAME:EDT
DTSTART:20260308T070000
END:DAYLIGHT
BEGIN:STANDARD
TZOFFSETFROM:-0400
TZOFFSETTO:-0500
TZNAME:EST
DTSTART:20261101T060000
END:STANDARD
END:VTIMEZONE
BEGIN:VEVENT
DTSTART;TZID=America/Indiana/Indianapolis:20251201T183000
DTEND;TZID=America/Indiana/Indianapolis:20251201T193000
DTSTAMP:20260422T122853
CREATED:20221011T184519Z
LAST-MODIFIED:20230425T222608Z
UID:10003272-1764613800-1764617400@stillwater-hospice.org
SUMMARY:Stellhorn Grief Support Group
DESCRIPTION:For any loss due to death. 1st & 3rd Monday of each month • 6:30-7:30 p.m. Please call (260) 435-3261 to register. RSVPs are needed by the Wednesday prior to the meeting date.
URL:https://stillwater-hospice.org/event/stellhorn-grief-support-group/2025-12-01/
LOCATION:Messiah Lutheran Church\, 7211 Stellhorn Road\, Fort Wayne\, IN\, 46815
END:VEVENT
BEGIN:VEVENT
DTSTART;TZID=America/Indiana/Indianapolis:20251203T100000
DTEND;TZID=America/Indiana/Indianapolis:20251203T105000
DTSTAMP:20260422T122853
CREATED:20250724T161748Z
LAST-MODIFIED:20250724T161748Z
UID:10004730-1764756000-1764759000@stillwater-hospice.org
SUMMARY:Yoga for Respite and Restoration
DESCRIPTION:1st and 3rd Wednesdays: September-December | 10:00-10:50 AM **DUE TO LIMITED SPACE\, REGISTRATION IS REQUIRED FOR EACH SESSION** Register online by the Monday prior to each session. This 50-minute practice is designed for rest through mindful movements\, breathing\, and meditation. You can practice in a chair or on a mat. No experience is required. \nClick here to register by the Monday prior to each session.
URL:https://stillwater-hospice.org/event/yoga-for-respite-and-restoration-6/2025-12-03/
LOCATION:The Peggy F. Murphy Community Grief Center\, 5920 Homestead Road\, Fort. Wayne\, IN\, 46814
ATTACH;FMTTYPE=image/jpeg:https://stillwater-hospice.org/wp-content/uploads/2025/07/Fall-Yoga.jpg
END:VEVENT
BEGIN:VEVENT
DTSTART;TZID=America/Indiana/Indianapolis:20251204T130000
DTEND;TZID=America/Indiana/Indianapolis:20251204T140000
DTSTAMP:20260422T122853
CREATED:20251104T191654Z
LAST-MODIFIED:20251104T191654Z
UID:10004970-1764853200-1764856800@stillwater-hospice.org
SUMMARY:Drum Circle
DESCRIPTION:In this community drum circle\, you will experience rhythm\, music and community bonding. Immerse yourself in the beat\, connect with friends and let the rhythm uplift your spirits. No experience necessary. \nClick here to complete the required registration by Friday\, November 28th.
URL:https://stillwater-hospice.org/event/drum-circle-4/
LOCATION:The Peggy F. Murphy Community Grief Center\, 5920 Homestead Road\, Fort. Wayne\, IN\, 46814
ATTACH;FMTTYPE=image/jpeg:https://stillwater-hospice.org/wp-content/uploads/2025/11/Promo.jpg
END:VEVENT
BEGIN:VEVENT
DTSTART;TZID=America/Indiana/Indianapolis:20251205T100000
DTEND;TZID=America/Indiana/Indianapolis:20251205T120000
DTSTAMP:20260422T122853
CREATED:20251104T191532Z
LAST-MODIFIED:20251104T191532Z
UID:10004969-1764928800-1764936000@stillwater-hospice.org
SUMMARY:Wellness Coaching Cohort
DESCRIPTION:In this session\, you will take a holistic approach to discover what areas of life you may be feeling depleted in and how grief might impact behaviors you’d like to change. You will also create a wellness vision to help guide any goals to help replenish those areas of depletion. Each participant can choose to schedule 3 individual coaching sessions with the wellness coach after the cohort\, to be used within the quarter. \nClick here to complete the required registration by Friday\, November 28th.
URL:https://stillwater-hospice.org/event/wellness-coaching-cohort-3/
LOCATION:The Peggy F. Murphy Community Grief Center\, 5920 Homestead Road\, Fort. Wayne\, IN\, 46814
ATTACH;FMTTYPE=image/jpeg:https://stillwater-hospice.org/wp-content/uploads/2025/11/Promo-WCC.jpg
END:VEVENT
BEGIN:VEVENT
DTSTART;TZID=America/Indiana/Indianapolis:20251208T183000
DTEND;TZID=America/Indiana/Indianapolis:20251208T200000
DTSTAMP:20260422T122853
CREATED:20221011T184914Z
LAST-MODIFIED:20251219T164736Z
UID:10003958-1765218600-1765224000@stillwater-hospice.org
SUMMARY:LGBTQ+ Grief Support Group
DESCRIPTION:For members of the LGBTQ+ community who have lost partners or loved ones\n2nd Monday of each month • 6:30-8 p.m. \nPlease call (260) 435-3261 or email GriefCenter@stillwater-hospice.org by the Wednesday prior to each meeting to complete the required registration.
URL:https://stillwater-hospice.org/event/lgbtq-grief-support-group/2025-12-08/
LOCATION:Fort Wayne Pride Center\, 527 W. Berrry St.\, Fort Wayne\, IN\, 46802\, United States
END:VEVENT
BEGIN:VEVENT
DTSTART;TZID=America/Indiana/Indianapolis:20251209T173000
DTEND;TZID=America/Indiana/Indianapolis:20251209T190000
DTSTAMP:20260422T122853
CREATED:20231206T190243Z
LAST-MODIFIED:20251219T164441Z
UID:10002608-1765301400-1765306800@stillwater-hospice.org
SUMMARY:General Loss Grief Support Group
DESCRIPTION:For any adult experiencing grief due to the death of a loved one.
URL:https://stillwater-hospice.org/event/general-loss-grief-support-group/2025-12-09/
LOCATION:IN
END:VEVENT
BEGIN:VEVENT
DTSTART;TZID=America/Indiana/Indianapolis:20251209T180000
DTEND;TZID=America/Indiana/Indianapolis:20251209T193000
DTSTAMP:20260422T122853
CREATED:20221011T184737Z
LAST-MODIFIED:20251219T164825Z
UID:10003438-1765303200-1765308600@stillwater-hospice.org
SUMMARY:Auburn Grief Support Group
DESCRIPTION:For any loss due to death\n2nd & 4th Tuesday of each month • 6-7:30 p.m.\nPlease call (260) 435-3261 or email GriefCenter@stillwater-hospice.org by the Wednesday prior to each meeting to complete the required registration.
URL:https://stillwater-hospice.org/event/auburn-grief-support-group-3/2025-12-09/
LOCATION:First Christian Church\, 910 N. Indiana Ave.\, Auburn\, IN\, United States
END:VEVENT
BEGIN:VEVENT
DTSTART;TZID=America/Indiana/Indianapolis:20251210T140000
DTEND;TZID=America/Indiana/Indianapolis:20251210T153000
DTSTAMP:20260422T122853
CREATED:20221011T195921Z
LAST-MODIFIED:20221011T200219Z
UID:10003508-1765375200-1765380600@stillwater-hospice.org
SUMMARY:Women's Afternoon Grief Support Group
DESCRIPTION:After the death of a spouse or significant other 2nd & 4th Wednesday of each month • 2-3:30 p.m.
URL:https://stillwater-hospice.org/event/womens-afternoon-grief-support-group/2025-12-10/
LOCATION:Peggy F. Murphy Community Grief Center\, 5920 Homestead Road\, Fort Wayne\, IN\, 46814
END:VEVENT
BEGIN:VEVENT
DTSTART;TZID=America/Indiana/Indianapolis:20251210T190000
DTEND;TZID=America/Indiana/Indianapolis:20251210T203000
DTSTAMP:20260422T122853
CREATED:20220429T230505Z
LAST-MODIFIED:20250703T143207Z
UID:10003221-1765393200-1765398600@stillwater-hospice.org
SUMMARY:We the Living Grief Support Group
DESCRIPTION:Support group for those grieving the loss of someone to suicide.
URL:https://stillwater-hospice.org/event/we-the-living-grief-support-group/2025-12-10/
LOCATION:Peggy F. Murphy Community Grief Center\, 5920 Homestead Road\, Fort Wayne\, IN\, 46814
END:VEVENT
BEGIN:VEVENT
DTSTART;TZID=America/Indiana/Indianapolis:20251213T100000
DTEND;TZID=America/Indiana/Indianapolis:20251213T113000
DTSTAMP:20260422T122853
CREATED:20240411T170058Z
LAST-MODIFIED:20251003T154334Z
UID:10002861-1765620000-1765625400@stillwater-hospice.org
SUMMARY:Death Cafe
DESCRIPTION:Held the 2nd Saturday of every month. 10-11:30am. \nA group-directed discussion on death and dying over coffee or tea and baked goods. No agenda\, objectives\, or themes. This is not a grief support group\, space to process grief\, or educational seminar. Click here to RSVP by the Wednesday prior to the meeting time. 
URL:https://stillwater-hospice.org/event/death-cafe-2024/2025-12-13/
LOCATION:The Peggy F. Murphy Community Grief Center\, 5920 Homestead Road\, Fort. Wayne\, IN\, 46814
ATTACH;FMTTYPE=image/jpeg:https://stillwater-hospice.org/wp-content/uploads/2024/04/Death-Cafe-General.jpg
END:VEVENT
BEGIN:VEVENT
DTSTART;TZID=America/Indiana/Indianapolis:20251215T174500
DTEND;TZID=America/Indiana/Indianapolis:20251215T191500
DTSTAMP:20260422T122853
CREATED:20221011T183851Z
LAST-MODIFIED:20250530T171802Z
UID:10002357-1765820700-1765826100@stillwater-hospice.org
SUMMARY:Women's Evening Grief Support Group
DESCRIPTION:After the death of a spouse or significant other 3rd Monday of each month • 5:45-7:15 p.m. \n 
URL:https://stillwater-hospice.org/event/womens-evening-grief-support-group/2025-12-15/
LOCATION:Peggy F. Murphy Community Grief Center\, 5920 Homestead Road\, Fort Wayne\, IN\, 46814
END:VEVENT
BEGIN:VEVENT
DTSTART;TZID=America/Indiana/Indianapolis:20251215T183000
DTEND;TZID=America/Indiana/Indianapolis:20251215T193000
DTSTAMP:20260422T122853
CREATED:20221013T100006Z
LAST-MODIFIED:20230425T222531Z
UID:10003568-1765823400-1765827000@stillwater-hospice.org
SUMMARY:Stellhorn Grief Support Group
DESCRIPTION:For any loss due to death. 1st & 3rd Monday of each month • 6:30-7:30 p.m. Please call (260) 435-3261 to register. RSVPs are needed by the Wednesday prior to the meeting date.
URL:https://stillwater-hospice.org/event/stellhorn-grief-support-group-2/2025-12-15/
LOCATION:Messiah Lutheran Church\, 7211 Stellhorn Road\, Fort Wayne\, IN\, 46815
END:VEVENT
BEGIN:VEVENT
DTSTART;TZID=America/Indiana/Indianapolis:20251215T183000
DTEND;TZID=America/Indiana/Indianapolis:20251215T200000
DTSTAMP:20260422T122853
CREATED:20251124T143825Z
LAST-MODIFIED:20251124T143825Z
UID:10005010-1765823400-1765828800@stillwater-hospice.org
SUMMARY:Finding Hope
DESCRIPTION:For those who have lost a loved one to suicide completion. RSVP required by the Wednesday prior to meeting. Register by emailing GriefCenter@stillwater-hospice.org or calling 260-435-3261.
URL:https://stillwater-hospice.org/event/finding-hope-3/
LOCATION:The Peggy F. Murphy Community Grief Center\, 5920 Homestead Road\, Fort. Wayne\, IN\, 46814
END:VEVENT
BEGIN:VEVENT
DTSTART;TZID=America/Indiana/Indianapolis:20251217T080000
DTEND;TZID=America/Indiana/Indianapolis:20251217T170000
DTSTAMP:20260422T122853
CREATED:20250724T161842Z
LAST-MODIFIED:20250724T161842Z
UID:10004734-1765958400-1765990800@stillwater-hospice.org
SUMMARY:Yoga for Respite and Restoration
DESCRIPTION:1st and 3rd Wednesdays: September-December | 10:00-10:50 AM **DUE TO LIMITED SPACE\, REGISTRATION IS REQUIRED FOR EACH SESSION** Register online by the Monday prior to each session. This 50-minute practice is designed for rest through mindful movements\, breathing\, and meditation. You can practice in a chair or on a mat. No experience is required. \nClick here to register by the Monday prior to each session.
URL:https://stillwater-hospice.org/event/yoga-for-respite-and-restoration-7/2025-12-17/
LOCATION:IN
ATTACH;FMTTYPE=image/jpeg:https://stillwater-hospice.org/wp-content/uploads/2025/07/Fall-Yoga.jpg
END:VEVENT
BEGIN:VEVENT
DTSTART;TZID=America/Indiana/Indianapolis:20251217T180000
DTEND;TZID=America/Indiana/Indianapolis:20251217T190000
DTSTAMP:20260422T122853
CREATED:20221011T171631Z
LAST-MODIFIED:20250121T183852Z
UID:10002987-1765994400-1765998000@stillwater-hospice.org
SUMMARY:Pet Loss Grief Support Group
DESCRIPTION:For those who are grieving the loss of a beloved pet. \nRSVP required to attend. Please call (260) 435-3261 or email GriefCenter@stillwater-hospice.org to register by the Wednesday prior to the meeting date. \n 
URL:https://stillwater-hospice.org/event/pet-loss-grief-support-group/2025-12-17/
LOCATION:Peggy F. Murphy Community Grief Center\, 5920 Homestead Road\, Fort Wayne\, IN\, 46814
END:VEVENT
BEGIN:VEVENT
DTSTART;TZID=America/Indiana/Indianapolis:20251223T173000
DTEND;TZID=America/Indiana/Indianapolis:20251223T190000
DTSTAMP:20260422T122853
CREATED:20231206T190420Z
LAST-MODIFIED:20241119T211115Z
UID:10002667-1766511000-1766516400@stillwater-hospice.org
SUMMARY:General Loss Grief Support Group
DESCRIPTION:For any adult experiencing grief due to the death of a loved one.
URL:https://stillwater-hospice.org/event/general-loss-grief-support-group-2/2025-12-23/
LOCATION:Peggy F. Murphy Community Grief Center\, 5920 Homestead Road\, Fort Wayne\, IN\, 46814
END:VEVENT
BEGIN:VEVENT
DTSTART;TZID=America/Indiana/Indianapolis:20251223T180000
DTEND;TZID=America/Indiana/Indianapolis:20251223T193000
DTSTAMP:20260422T122853
CREATED:20221109T230157Z
LAST-MODIFIED:20251219T164757Z
UID:10004060-1766512800-1766518200@stillwater-hospice.org
SUMMARY:Auburn Grief Support Group
DESCRIPTION:For any loss due to death\n2nd & 4th Tuesday of each month • 6-7:30 p.m.\nPlease call (260) 435-3261 or email GriefCenter@stillwater-hospice.org by the Wednesday prior to each meeting to complete the required registration.
URL:https://stillwater-hospice.org/event/auburn-grief-support-group-2/2025-12-23/
LOCATION:First Christian Church\, 910 N. Indiana Ave.\, Auburn\, IN\, United States
END:VEVENT
BEGIN:VEVENT
DTSTART;TZID=America/Indiana/Indianapolis:20251224T140000
DTEND;TZID=America/Indiana/Indianapolis:20251224T153000
DTSTAMP:20260422T122853
CREATED:20250530T171616Z
LAST-MODIFIED:20251219T165012Z
UID:10004491-1766584800-1766590200@stillwater-hospice.org
SUMMARY:Women's Afternoon Grief Support Group
DESCRIPTION:After the death of a spouse or significant other 2nd & 4th Wednesday of each month • 2-3:30 p.m.
URL:https://stillwater-hospice.org/event/womens-afternoon-grief-support-group-2/2025-12-24/
LOCATION:The Peggy F. Murphy Community Grief Center\, 5920 Homestead Road\, Fort. Wayne\, IN\, 46814
END:VEVENT
END:VCALENDAR