BEGIN:VCALENDAR
VERSION:2.0
PRODID:-//Stillwater Hospice - ECPv6.15.20//NONSGML v1.0//EN
CALSCALE:GREGORIAN
METHOD:PUBLISH
X-ORIGINAL-URL:https://stillwater-hospice.org
X-WR-CALDESC:Events for Stillwater Hospice
REFRESH-INTERVAL;VALUE=DURATION:PT1H
X-Robots-Tag:noindex
X-PUBLISHED-TTL:PT1H
BEGIN:VTIMEZONE
TZID:America/Indiana/Indianapolis
BEGIN:DAYLIGHT
TZOFFSETFROM:-0500
TZOFFSETTO:-0400
TZNAME:EDT
DTSTART:20250309T070000
END:DAYLIGHT
BEGIN:STANDARD
TZOFFSETFROM:-0400
TZOFFSETTO:-0500
TZNAME:EST
DTSTART:20251102T060000
END:STANDARD
BEGIN:DAYLIGHT
TZOFFSETFROM:-0500
TZOFFSETTO:-0400
TZNAME:EDT
DTSTART:20260308T070000
END:DAYLIGHT
BEGIN:STANDARD
TZOFFSETFROM:-0400
TZOFFSETTO:-0500
TZNAME:EST
DTSTART:20261101T060000
END:STANDARD
BEGIN:DAYLIGHT
TZOFFSETFROM:-0500
TZOFFSETTO:-0400
TZNAME:EDT
DTSTART:20270314T070000
END:DAYLIGHT
BEGIN:STANDARD
TZOFFSETFROM:-0400
TZOFFSETTO:-0500
TZNAME:EST
DTSTART:20271107T060000
END:STANDARD
END:VTIMEZONE
BEGIN:VEVENT
DTSTART;TZID=America/Indiana/Indianapolis:20260202T103000
DTEND;TZID=America/Indiana/Indianapolis:20260202T120000
DTSTAMP:20260422T093149
CREATED:20260108T200801Z
LAST-MODIFIED:20260108T200801Z
UID:10005479-1770028200-1770033600@stillwater-hospice.org
SUMMARY:Meditation and Mindfulness 4-Week Series
DESCRIPTION:This program is designed to help you be present with the various experiences of grief you may encounter in daily life. You will learn meditation concepts and practices to live mindfully alongside your grief. No experience necessary. Click here to complete the required registration by January 28th.
URL:https://stillwater-hospice.org/event/meditation-and-mindfulness-4-week-series-2/2026-02-02/
LOCATION:The Peggy F. Murphy Community Grief Center\, 5920 Homestead Road\, Fort. Wayne\, IN\, 46814
ATTACH;FMTTYPE=image/jpeg:https://stillwater-hospice.org/wp-content/uploads/2026/01/MMSocial.jpg
END:VEVENT
BEGIN:VEVENT
DTSTART;TZID=America/Indiana/Indianapolis:20260202T170000
DTEND;TZID=America/Indiana/Indianapolis:20260202T190000
DTSTAMP:20260422T093149
CREATED:20260108T203741Z
LAST-MODIFIED:20260108T203741Z
UID:10005483-1770051600-1770058800@stillwater-hospice.org
SUMMARY:Book Club
DESCRIPTION:Join us at the Grief Center for a book club discussion with books on grief\, death\, and dying. Book selections are posted for each registration ticket. Click here to complete the required registration by the Wednesday prior to each session.
URL:https://stillwater-hospice.org/event/book-club/2026-02-02/
LOCATION:The Peggy F. Murphy Community Grief Center\, 5920 Homestead Road\, Fort. Wayne\, IN\, 46814
ATTACH;FMTTYPE=image/jpeg:https://stillwater-hospice.org/wp-content/uploads/2026/01/Book-Club-General.jpg
END:VEVENT
BEGIN:VEVENT
DTSTART;TZID=America/Indiana/Indianapolis:20260202T183000
DTEND;TZID=America/Indiana/Indianapolis:20260202T193000
DTSTAMP:20260422T093149
CREATED:20221011T184519Z
LAST-MODIFIED:20230425T222608Z
UID:10003274-1770057000-1770060600@stillwater-hospice.org
SUMMARY:Stellhorn Grief Support Group
DESCRIPTION:For any loss due to death. 1st & 3rd Monday of each month • 6:30-7:30 p.m. Please call (260) 435-3261 to register. RSVPs are needed by the Wednesday prior to the meeting date.
URL:https://stillwater-hospice.org/event/stellhorn-grief-support-group/2026-02-02/
LOCATION:Messiah Lutheran Church\, 7211 Stellhorn Road\, Fort Wayne\, IN\, 46815
END:VEVENT
BEGIN:VEVENT
DTSTART;TZID=America/Indiana/Indianapolis:20260204T100000
DTEND;TZID=America/Indiana/Indianapolis:20260204T130000
DTSTAMP:20260422T093149
CREATED:20260108T200305Z
LAST-MODIFIED:20260108T203823Z
UID:10005475-1770199200-1770210000@stillwater-hospice.org
SUMMARY:Clay Expression
DESCRIPTION:Using polymer clay\, you will create\, bake\, and paint pieces that help express feelings that can be hard to put into words.  No artistic skills needed\, only a willingness to explore and create in a supportive environment. \n Click here to complete the required registration by the Wednesday prior to each session.
URL:https://stillwater-hospice.org/event/clay-expression/2026-02-04/
LOCATION:The Peggy F. Murphy Community Grief Center\, 5920 Homestead Road\, Fort. Wayne\, IN\, 46814
ATTACH;FMTTYPE=image/jpeg:https://stillwater-hospice.org/wp-content/uploads/2026/01/ClayGeneralPromo.jpg
END:VEVENT
BEGIN:VEVENT
DTSTART;TZID=America/Indiana/Indianapolis:20260204T180000
DTEND;TZID=America/Indiana/Indianapolis:20260204T193000
DTSTAMP:20260422T093149
CREATED:20251218T190619Z
LAST-MODIFIED:20260114T221823Z
UID:10005499-1770228000-1770233400@stillwater-hospice.org
SUMMARY:Knitting 101: 4-Week Series
DESCRIPTION:Knitting has been known to be a meditative hobby as a creative outlet that can help reduce stress. Learn the basic skills of knitting in this series. Supplies will be provided. For proper supply planning\, registration is required to attend. For continued participation\, attendance the first week is required. **For the health & safety of our facilitators and participants\, please refrain from wearing scented lotions and perfumes.** \nClick here to complete the required registration by January 2nd.
URL:https://stillwater-hospice.org/event/knitting-101-4-week-series/2026-02-04/
LOCATION:The Peggy F. Murphy Community Grief Center\, 5920 Homestead Road\, Fort. Wayne\, IN\, 46814
ATTACH;FMTTYPE=image/jpeg:https://stillwater-hospice.org/wp-content/uploads/2025/12/Knitting.jpg
END:VEVENT
BEGIN:VEVENT
DTSTART;TZID=America/Indiana/Indianapolis:20260205T130000
DTEND;TZID=America/Indiana/Indianapolis:20260205T143000
DTSTAMP:20260422T093149
CREATED:20251219T171129Z
LAST-MODIFIED:20251219T171129Z
UID:10005315-1770296400-1770301800@stillwater-hospice.org
SUMMARY:Men's Grief Support Group
DESCRIPTION:After the death of a spouse or significant other. 1st & 3rd Thursday of each month.\nPlease call 260-435-3261 or email GriefCenter@stillwater-hospice.org to complete the required registration the week prior to each meeting date.
URL:https://stillwater-hospice.org/event/mens-grief-support-group-2/2026-02-05/
LOCATION:The Peggy F. Murphy Community Grief Center\, 5920 Homestead Road\, Fort. Wayne\, IN\, 46814
END:VEVENT
BEGIN:VEVENT
DTSTART;TZID=America/Indiana/Indianapolis:20260205T190000
DTEND;TZID=America/Indiana/Indianapolis:20260205T203000
DTSTAMP:20260422T093149
CREATED:20251219T170724Z
LAST-MODIFIED:20251219T171555Z
UID:10005306-1770318000-1770323400@stillwater-hospice.org
SUMMARY:Compassionate Friends
DESCRIPTION:For grieving parents\, grandparents & siblings the Thursday following the first Tuesday each month • 7 p.m. No meetings in July or December.\nContact Kelly Pulley & Katy Leach for meeting locations:(260) 255-4530\, leave a message to receive a return call.
URL:https://stillwater-hospice.org/event/compassionate-friends-3/2026-02-05/
LOCATION:IN
END:VEVENT
BEGIN:VEVENT
DTSTART;TZID=America/Indiana/Indianapolis:20260207T103000
DTEND;TZID=America/Indiana/Indianapolis:20260207T140000
DTSTAMP:20260422T093149
CREATED:20260108T204046Z
LAST-MODIFIED:20260203T193127Z
UID:10005487-1770460200-1770472800@stillwater-hospice.org
SUMMARY:Lost Loves Day: SOLD OUT
DESCRIPTION:A half-day retreat for any adult who has experienced the loss of their spouse\, partner\, or significant other. The day will include a variety of experiences and tools to help navigate significant days\, including Valentine’s Day. A light lunch will be served.  \nClick here to complete the required registration by January 30th.
URL:https://stillwater-hospice.org/event/lost-loves-day/
LOCATION:The Peggy F. Murphy Community Grief Center\, 5920 Homestead Road\, Fort. Wayne\, IN\, 46814
ATTACH;FMTTYPE=image/jpeg:https://stillwater-hospice.org/wp-content/uploads/2026/01/Lost-Loves-Social-1.jpg
END:VEVENT
BEGIN:VEVENT
DTSTART;TZID=America/Indiana/Indianapolis:20260209T103000
DTEND;TZID=America/Indiana/Indianapolis:20260209T120000
DTSTAMP:20260422T093149
CREATED:20260108T200801Z
LAST-MODIFIED:20260108T200801Z
UID:10005480-1770633000-1770638400@stillwater-hospice.org
SUMMARY:Meditation and Mindfulness 4-Week Series
DESCRIPTION:This program is designed to help you be present with the various experiences of grief you may encounter in daily life. You will learn meditation concepts and practices to live mindfully alongside your grief. No experience necessary. Click here to complete the required registration by January 28th.
URL:https://stillwater-hospice.org/event/meditation-and-mindfulness-4-week-series-2/2026-02-09/
LOCATION:The Peggy F. Murphy Community Grief Center\, 5920 Homestead Road\, Fort. Wayne\, IN\, 46814
ATTACH;FMTTYPE=image/jpeg:https://stillwater-hospice.org/wp-content/uploads/2026/01/MMSocial.jpg
END:VEVENT
BEGIN:VEVENT
DTSTART;TZID=America/Indiana/Indianapolis:20260209T183000
DTEND;TZID=America/Indiana/Indianapolis:20260209T200000
DTSTAMP:20260422T093149
CREATED:20221011T184914Z
LAST-MODIFIED:20251219T164736Z
UID:10003960-1770661800-1770667200@stillwater-hospice.org
SUMMARY:LGBTQ+ Grief Support Group
DESCRIPTION:For members of the LGBTQ+ community who have lost partners or loved ones\n2nd Monday of each month • 6:30-8 p.m. \nPlease call (260) 435-3261 or email GriefCenter@stillwater-hospice.org by the Wednesday prior to each meeting to complete the required registration.
URL:https://stillwater-hospice.org/event/lgbtq-grief-support-group/2026-02-09/
LOCATION:Fort Wayne Pride Center\, 527 W. Berrry St.\, Fort Wayne\, IN\, 46802\, United States
END:VEVENT
BEGIN:VEVENT
DTSTART;TZID=America/Indiana/Indianapolis:20260209T183000
DTEND;TZID=America/Indiana/Indianapolis:20260209T200000
DTSTAMP:20260422T093149
CREATED:20250505T194940Z
LAST-MODIFIED:20260126T145141Z
UID:10005527-1770661800-1770667200@stillwater-hospice.org
SUMMARY:Finding Hope
DESCRIPTION:For those who have lost a loved one to suicide completion. 4th Monday of every month. \nRSVP required by the Wednesday prior to meeting. Register by emailing GriefCenter@stillwater-hospice.org or calling 260-435-3261.
URL:https://stillwater-hospice.org/event/finding-hope-2/2026-02-09/
LOCATION:Peggy F. Murphy Community Grief Center\, 5920 Homestead Road\, Fort Wayne\, IN\, 46814
END:VEVENT
BEGIN:VEVENT
DTSTART;TZID=America/Indiana/Indianapolis:20260210T173000
DTEND;TZID=America/Indiana/Indianapolis:20260210T190000
DTSTAMP:20260422T093149
CREATED:20231206T190243Z
LAST-MODIFIED:20251219T164441Z
UID:10002610-1770744600-1770750000@stillwater-hospice.org
SUMMARY:General Loss Grief Support Group
DESCRIPTION:For any adult experiencing grief due to the death of a loved one.
URL:https://stillwater-hospice.org/event/general-loss-grief-support-group/2026-02-10/
LOCATION:IN
END:VEVENT
BEGIN:VEVENT
DTSTART;TZID=America/Indiana/Indianapolis:20260210T180000
DTEND;TZID=America/Indiana/Indianapolis:20260210T193000
DTSTAMP:20260422T093150
CREATED:20221011T184737Z
LAST-MODIFIED:20251219T164825Z
UID:10003440-1770746400-1770751800@stillwater-hospice.org
SUMMARY:Auburn Grief Support Group
DESCRIPTION:For any loss due to death\n2nd & 4th Tuesday of each month • 6-7:30 p.m.\nPlease call (260) 435-3261 or email GriefCenter@stillwater-hospice.org by the Wednesday prior to each meeting to complete the required registration.
URL:https://stillwater-hospice.org/event/auburn-grief-support-group-3/2026-02-10/
LOCATION:First Christian Church\, 910 N. Indiana Ave.\, Auburn\, IN\, United States
END:VEVENT
BEGIN:VEVENT
DTSTART;TZID=America/Indiana/Indianapolis:20260211T100000
DTEND;TZID=America/Indiana/Indianapolis:20260211T105000
DTSTAMP:20260422T093150
CREATED:20251218T194020Z
LAST-MODIFIED:20251218T194020Z
UID:10005102-1770804000-1770807000@stillwater-hospice.org
SUMMARY:Yoga for Respite & Restoration
DESCRIPTION:A 50 minute practice of gentle\, mindful movement that encourages rest. Participants are welcome to practice in a chair or on a mat. Props are provided. No experience required. **For the health & safety of our facilitators and participants\, please refrain from wearing scented lotions and perfumes.** \nClick here to complete the required registration by the Monday prior to each session.
URL:https://stillwater-hospice.org/event/yoga-for-respite-restoration/2026-02-11/
LOCATION:The Peggy F. Murphy Community Grief Center\, 5920 Homestead Road\, Fort. Wayne\, IN\, 46814
ATTACH;FMTTYPE=image/jpeg:https://stillwater-hospice.org/wp-content/uploads/2025/12/2026-Yoga.jpg
END:VEVENT
BEGIN:VEVENT
DTSTART;TZID=America/Indiana/Indianapolis:20260211T140000
DTEND;TZID=America/Indiana/Indianapolis:20260211T153000
DTSTAMP:20260422T093150
CREATED:20221011T195921Z
LAST-MODIFIED:20221011T200219Z
UID:10003510-1770818400-1770823800@stillwater-hospice.org
SUMMARY:Women's Afternoon Grief Support Group
DESCRIPTION:After the death of a spouse or significant other 2nd & 4th Wednesday of each month • 2-3:30 p.m.
URL:https://stillwater-hospice.org/event/womens-afternoon-grief-support-group/2026-02-11/
LOCATION:Peggy F. Murphy Community Grief Center\, 5920 Homestead Road\, Fort Wayne\, IN\, 46814
END:VEVENT
BEGIN:VEVENT
DTSTART;TZID=America/Indiana/Indianapolis:20260211T190000
DTEND;TZID=America/Indiana/Indianapolis:20260211T203000
DTSTAMP:20260422T093150
CREATED:20220429T230505Z
LAST-MODIFIED:20250703T143207Z
UID:10003223-1770836400-1770841800@stillwater-hospice.org
SUMMARY:We the Living Grief Support Group
DESCRIPTION:Support group for those grieving the loss of someone to suicide.
URL:https://stillwater-hospice.org/event/we-the-living-grief-support-group/2026-02-11/
LOCATION:Peggy F. Murphy Community Grief Center\, 5920 Homestead Road\, Fort Wayne\, IN\, 46814
END:VEVENT
BEGIN:VEVENT
DTSTART;TZID=America/Indiana/Indianapolis:20260216T103000
DTEND;TZID=America/Indiana/Indianapolis:20260216T120000
DTSTAMP:20260422T093150
CREATED:20260108T200801Z
LAST-MODIFIED:20260108T200801Z
UID:10005481-1771237800-1771243200@stillwater-hospice.org
SUMMARY:Meditation and Mindfulness 4-Week Series
DESCRIPTION:This program is designed to help you be present with the various experiences of grief you may encounter in daily life. You will learn meditation concepts and practices to live mindfully alongside your grief. No experience necessary. Click here to complete the required registration by January 28th.
URL:https://stillwater-hospice.org/event/meditation-and-mindfulness-4-week-series-2/2026-02-16/
LOCATION:The Peggy F. Murphy Community Grief Center\, 5920 Homestead Road\, Fort. Wayne\, IN\, 46814
ATTACH;FMTTYPE=image/jpeg:https://stillwater-hospice.org/wp-content/uploads/2026/01/MMSocial.jpg
END:VEVENT
BEGIN:VEVENT
DTSTART;TZID=America/Indiana/Indianapolis:20260216T174500
DTEND;TZID=America/Indiana/Indianapolis:20260216T191500
DTSTAMP:20260422T093150
CREATED:20221011T183851Z
LAST-MODIFIED:20250530T171802Z
UID:10002359-1771263900-1771269300@stillwater-hospice.org
SUMMARY:Women's Evening Grief Support Group
DESCRIPTION:After the death of a spouse or significant other 3rd Monday of each month • 5:45-7:15 p.m. \n 
URL:https://stillwater-hospice.org/event/womens-evening-grief-support-group/2026-02-16/
LOCATION:Peggy F. Murphy Community Grief Center\, 5920 Homestead Road\, Fort Wayne\, IN\, 46814
END:VEVENT
BEGIN:VEVENT
DTSTART;TZID=America/Indiana/Indianapolis:20260216T183000
DTEND;TZID=America/Indiana/Indianapolis:20260216T193000
DTSTAMP:20260422T093150
CREATED:20221013T100006Z
LAST-MODIFIED:20230425T222531Z
UID:10003570-1771266600-1771270200@stillwater-hospice.org
SUMMARY:Stellhorn Grief Support Group
DESCRIPTION:For any loss due to death. 1st & 3rd Monday of each month • 6:30-7:30 p.m. Please call (260) 435-3261 to register. RSVPs are needed by the Wednesday prior to the meeting date.
URL:https://stillwater-hospice.org/event/stellhorn-grief-support-group-2/2026-02-16/
LOCATION:Messiah Lutheran Church\, 7211 Stellhorn Road\, Fort Wayne\, IN\, 46815
END:VEVENT
BEGIN:VEVENT
DTSTART;TZID=America/Indiana/Indianapolis:20260218T173000
DTEND;TZID=America/Indiana/Indianapolis:20260218T183000
DTSTAMP:20260422T093150
CREATED:20251218T192631Z
LAST-MODIFIED:20260211T194838Z
UID:10005087-1771435800-1771439400@stillwater-hospice.org
SUMMARY:MELT Method
DESCRIPTION:MELT is an easy to learn self-treatment method that can help with the common physical symptoms of grief. Restore your nervous system and releases stuck stress. Ease chronic pain and stiffness.**For the health & safety of our facilitators and participants\, please refrain from wearing scented lotions and perfumes.** \nClick here to complete the required registration the Friday prior to each session.
URL:https://stillwater-hospice.org/event/melt-method-5/2026-02-18/
LOCATION:The Peggy F. Murphy Community Grief Center\, 5920 Homestead Road\, Fort. Wayne\, IN\, 46814
ATTACH;FMTTYPE=image/jpeg:https://stillwater-hospice.org/wp-content/uploads/2025/12/MELT-General-Promo.jpg
END:VEVENT
BEGIN:VEVENT
DTSTART;TZID=America/Indiana/Indianapolis:20260218T180000
DTEND;TZID=America/Indiana/Indianapolis:20260218T190000
DTSTAMP:20260422T093150
CREATED:20221011T171631Z
LAST-MODIFIED:20250121T183852Z
UID:10002989-1771437600-1771441200@stillwater-hospice.org
SUMMARY:Pet Loss Grief Support Group
DESCRIPTION:For those who are grieving the loss of a beloved pet. \nRSVP required to attend. Please call (260) 435-3261 or email GriefCenter@stillwater-hospice.org to register by the Wednesday prior to the meeting date. \n 
URL:https://stillwater-hospice.org/event/pet-loss-grief-support-group/2026-02-18/
LOCATION:Peggy F. Murphy Community Grief Center\, 5920 Homestead Road\, Fort Wayne\, IN\, 46814
END:VEVENT
BEGIN:VEVENT
DTSTART;TZID=America/Indiana/Indianapolis:20260219T100000
DTEND;TZID=America/Indiana/Indianapolis:20260219T110000
DTSTAMP:20260422T093150
CREATED:20251218T191733Z
LAST-MODIFIED:20260211T194954Z
UID:10005075-1771495200-1771498800@stillwater-hospice.org
SUMMARY:Drum Circle
DESCRIPTION:Drum Circles offer an opportunity to express your emotions and shift your mood through drums and other percussion instruments. Experience rhythm and community bonding. No experience necessary. **For the health & safety of our facilitators and participants\, please refrain from wearing scented lotions and perfumes.** \nClick here to complete the required registration the Friday prior to each session.
URL:https://stillwater-hospice.org/event/drum-circle-5/2026-02-19/
LOCATION:The Peggy F. Murphy Community Grief Center\, 5920 Homestead Road\, Fort. Wayne\, IN\, 46814
ATTACH;FMTTYPE=image/jpeg:https://stillwater-hospice.org/wp-content/uploads/2026/02/Drum-Circle-General-Promo.jpg
END:VEVENT
BEGIN:VEVENT
DTSTART;TZID=America/Indiana/Indianapolis:20260219T130000
DTEND;TZID=America/Indiana/Indianapolis:20260219T143000
DTSTAMP:20260422T093150
CREATED:20251219T171210Z
LAST-MODIFIED:20251219T171210Z
UID:10005375-1771506000-1771511400@stillwater-hospice.org
SUMMARY:Men's Grief Support Group
DESCRIPTION:After the death of a spouse or significant other. 1st & 3rd Thursday of each month.\nPlease call 260-435-3261 or email GriefCenter@stillwater-hospice.org to complete the required registration the week prior to each meeting date.
URL:https://stillwater-hospice.org/event/mens-grief-support-group-3/2026-02-19/
LOCATION:The Peggy F. Murphy Community Grief Center\, 5920 Homestead Road\, Fort. Wayne\, IN\, 46814
END:VEVENT
BEGIN:VEVENT
DTSTART;TZID=America/Indiana/Indianapolis:20260220T100000
DTEND;TZID=America/Indiana/Indianapolis:20260220T113000
DTSTAMP:20260422T093150
CREATED:20260220T134802Z
LAST-MODIFIED:20260220T134802Z
UID:10005122-1771581600-1771587000@stillwater-hospice.org
SUMMARY:Grief Hikes with ACRES
DESCRIPTION:Hikes are supported by the Ralph E. Taylor Conservation Fund \nMovement in nature can help with processing emotions and bring a sense of calm and connection. Join us on a monthly hike with ACRES. Open to any adult who has experienced a death-related loss. Held at various ACRES Locations \nClick here to complete the required registration by the Monday prior to each session.
URL:https://stillwater-hospice.org/event/grief-hikes-with-acres-2/
LOCATION:IN
END:VEVENT
BEGIN:VEVENT
DTSTART;TZID=America/Indiana/Indianapolis:20260223T103000
DTEND;TZID=America/Indiana/Indianapolis:20260223T120000
DTSTAMP:20260422T093150
CREATED:20260108T200801Z
LAST-MODIFIED:20260108T200801Z
UID:10005482-1771842600-1771848000@stillwater-hospice.org
SUMMARY:Meditation and Mindfulness 4-Week Series
DESCRIPTION:This program is designed to help you be present with the various experiences of grief you may encounter in daily life. You will learn meditation concepts and practices to live mindfully alongside your grief. No experience necessary. Click here to complete the required registration by January 28th.
URL:https://stillwater-hospice.org/event/meditation-and-mindfulness-4-week-series-2/2026-02-23/
LOCATION:The Peggy F. Murphy Community Grief Center\, 5920 Homestead Road\, Fort. Wayne\, IN\, 46814
ATTACH;FMTTYPE=image/jpeg:https://stillwater-hospice.org/wp-content/uploads/2026/01/MMSocial.jpg
END:VEVENT
BEGIN:VEVENT
DTSTART;TZID=America/Indiana/Indianapolis:20260224T173000
DTEND;TZID=America/Indiana/Indianapolis:20260224T190000
DTSTAMP:20260422T093150
CREATED:20231206T190420Z
LAST-MODIFIED:20241119T211115Z
UID:10002669-1771954200-1771959600@stillwater-hospice.org
SUMMARY:General Loss Grief Support Group
DESCRIPTION:For any adult experiencing grief due to the death of a loved one.
URL:https://stillwater-hospice.org/event/general-loss-grief-support-group-2/2026-02-24/
LOCATION:Peggy F. Murphy Community Grief Center\, 5920 Homestead Road\, Fort Wayne\, IN\, 46814
END:VEVENT
BEGIN:VEVENT
DTSTART;TZID=America/Indiana/Indianapolis:20260224T180000
DTEND;TZID=America/Indiana/Indianapolis:20260224T193000
DTSTAMP:20260422T093150
CREATED:20221109T230157Z
LAST-MODIFIED:20251219T164757Z
UID:10005174-1771956000-1771961400@stillwater-hospice.org
SUMMARY:Auburn Grief Support Group
DESCRIPTION:For any loss due to death\n2nd & 4th Tuesday of each month • 6-7:30 p.m.\nPlease call (260) 435-3261 or email GriefCenter@stillwater-hospice.org by the Wednesday prior to each meeting to complete the required registration.
URL:https://stillwater-hospice.org/event/auburn-grief-support-group-2/2026-02-24/
LOCATION:First Christian Church\, 910 N. Indiana Ave.\, Auburn\, IN\, United States
END:VEVENT
BEGIN:VEVENT
DTSTART;TZID=America/Indiana/Indianapolis:20260225T100000
DTEND;TZID=America/Indiana/Indianapolis:20260225T105000
DTSTAMP:20260422T093150
CREATED:20251218T194203Z
LAST-MODIFIED:20260226T204221Z
UID:10005112-1772013600-1772016600@stillwater-hospice.org
SUMMARY:Yoga for Respite & Restoration
DESCRIPTION:A 50 minute practice of gentle\, mindful movement that encourages rest. Participants are welcome to practice in a chair or on a mat. Props are provided. No experience required. **For the health & safety of our facilitators and participants\, please refrain from wearing scented lotions and perfumes.** \nClick here to complete the required registration by the Monday prior to each session.
URL:https://stillwater-hospice.org/event/yoga-for-respite-restoration-2/2026-02-25/
LOCATION:The Peggy F. Murphy Community Grief Center\, 5920 Homestead Road\, Fort. Wayne\, IN\, 46814
ATTACH;FMTTYPE=image/jpeg:https://stillwater-hospice.org/wp-content/uploads/2025/12/2026-Yoga.jpg
END:VEVENT
BEGIN:VEVENT
DTSTART;TZID=America/Indiana/Indianapolis:20260225T140000
DTEND;TZID=America/Indiana/Indianapolis:20260225T153000
DTSTAMP:20260422T093150
CREATED:20250530T171616Z
LAST-MODIFIED:20251219T165012Z
UID:10004493-1772028000-1772033400@stillwater-hospice.org
SUMMARY:Women's Afternoon Grief Support Group
DESCRIPTION:After the death of a spouse or significant other 2nd & 4th Wednesday of each month • 2-3:30 p.m.
URL:https://stillwater-hospice.org/event/womens-afternoon-grief-support-group-2/2026-02-25/
LOCATION:The Peggy F. Murphy Community Grief Center\, 5920 Homestead Road\, Fort. Wayne\, IN\, 46814
END:VEVENT
END:VCALENDAR