BEGIN:VCALENDAR
VERSION:2.0
PRODID:-//Stillwater Hospice - ECPv6.15.20//NONSGML v1.0//EN
CALSCALE:GREGORIAN
METHOD:PUBLISH
X-WR-CALNAME:Stillwater Hospice
X-ORIGINAL-URL:https://stillwater-hospice.org
X-WR-CALDESC:Events for Stillwater Hospice
REFRESH-INTERVAL;VALUE=DURATION:PT1H
X-Robots-Tag:noindex
X-PUBLISHED-TTL:PT1H
BEGIN:VTIMEZONE
TZID:America/Indiana/Indianapolis
BEGIN:DAYLIGHT
TZOFFSETFROM:-0500
TZOFFSETTO:-0400
TZNAME:EDT
DTSTART:20250309T070000
END:DAYLIGHT
BEGIN:STANDARD
TZOFFSETFROM:-0400
TZOFFSETTO:-0500
TZNAME:EST
DTSTART:20251102T060000
END:STANDARD
BEGIN:DAYLIGHT
TZOFFSETFROM:-0500
TZOFFSETTO:-0400
TZNAME:EDT
DTSTART:20260308T070000
END:DAYLIGHT
BEGIN:STANDARD
TZOFFSETFROM:-0400
TZOFFSETTO:-0500
TZNAME:EST
DTSTART:20261101T060000
END:STANDARD
BEGIN:DAYLIGHT
TZOFFSETFROM:-0500
TZOFFSETTO:-0400
TZNAME:EDT
DTSTART:20270314T070000
END:DAYLIGHT
BEGIN:STANDARD
TZOFFSETFROM:-0400
TZOFFSETTO:-0500
TZNAME:EST
DTSTART:20271107T060000
END:STANDARD
END:VTIMEZONE
BEGIN:VEVENT
DTSTART;TZID=America/Indiana/Indianapolis:20261102T170000
DTEND;TZID=America/Indiana/Indianapolis:20261102T190000
DTSTAMP:20260422T162525
CREATED:20260108T203741Z
LAST-MODIFIED:20260108T203741Z
UID:10005486-1793638800-1793646000@stillwater-hospice.org
SUMMARY:Book Club
DESCRIPTION:Join us at the Grief Center for a book club discussion with books on grief\, death\, and dying. Book selections are posted for each registration ticket. Click here to complete the required registration by the Wednesday prior to each session.
URL:https://stillwater-hospice.org/event/book-club/2026-11-02/
LOCATION:The Peggy F. Murphy Community Grief Center\, 5920 Homestead Road\, Fort. Wayne\, IN\, 46814
ATTACH;FMTTYPE=image/jpeg:https://stillwater-hospice.org/wp-content/uploads/2026/01/Book-Club-General.jpg
END:VEVENT
BEGIN:VEVENT
DTSTART;TZID=America/Indiana/Indianapolis:20261102T183000
DTEND;TZID=America/Indiana/Indianapolis:20261102T193000
DTSTAMP:20260422T162525
CREATED:20221011T184519Z
LAST-MODIFIED:20230425T222608Z
UID:10003283-1793644200-1793647800@stillwater-hospice.org
SUMMARY:Stellhorn Grief Support Group
DESCRIPTION:For any loss due to death. 1st & 3rd Monday of each month • 6:30-7:30 p.m. Please call (260) 435-3261 to register. RSVPs are needed by the Wednesday prior to the meeting date.
URL:https://stillwater-hospice.org/event/stellhorn-grief-support-group/2026-11-02/
LOCATION:Messiah Lutheran Church\, 7211 Stellhorn Road\, Fort Wayne\, IN\, 46815
END:VEVENT
BEGIN:VEVENT
DTSTART;TZID=America/Indiana/Indianapolis:20261104T100000
DTEND;TZID=America/Indiana/Indianapolis:20261104T130000
DTSTAMP:20260422T162525
CREATED:20260108T200305Z
LAST-MODIFIED:20260108T203823Z
UID:10005478-1793786400-1793797200@stillwater-hospice.org
SUMMARY:Clay Expression
DESCRIPTION:Using polymer clay\, you will create\, bake\, and paint pieces that help express feelings that can be hard to put into words.  No artistic skills needed\, only a willingness to explore and create in a supportive environment. \n Click here to complete the required registration by the Wednesday prior to each session.
URL:https://stillwater-hospice.org/event/clay-expression/2026-11-04/
LOCATION:The Peggy F. Murphy Community Grief Center\, 5920 Homestead Road\, Fort. Wayne\, IN\, 46814
ATTACH;FMTTYPE=image/jpeg:https://stillwater-hospice.org/wp-content/uploads/2026/01/ClayGeneralPromo.jpg
END:VEVENT
BEGIN:VEVENT
DTSTART;TZID=America/Indiana/Indianapolis:20261105T130000
DTEND;TZID=America/Indiana/Indianapolis:20261105T143000
DTSTAMP:20260422T162525
CREATED:20251219T171129Z
LAST-MODIFIED:20251219T171129Z
UID:10005324-1793883600-1793889000@stillwater-hospice.org
SUMMARY:Men's Grief Support Group
DESCRIPTION:After the death of a spouse or significant other. 1st & 3rd Thursday of each month.\nPlease call 260-435-3261 or email GriefCenter@stillwater-hospice.org to complete the required registration the week prior to each meeting date.
URL:https://stillwater-hospice.org/event/mens-grief-support-group-2/2026-11-05/
LOCATION:The Peggy F. Murphy Community Grief Center\, 5920 Homestead Road\, Fort. Wayne\, IN\, 46814
END:VEVENT
BEGIN:VEVENT
DTSTART;TZID=America/Indiana/Indianapolis:20261105T190000
DTEND;TZID=America/Indiana/Indianapolis:20261105T203000
DTSTAMP:20260422T162525
CREATED:20251219T170724Z
LAST-MODIFIED:20251219T171555Z
UID:10005314-1793905200-1793910600@stillwater-hospice.org
SUMMARY:Compassionate Friends
DESCRIPTION:For grieving parents\, grandparents & siblings the Thursday following the first Tuesday each month • 7 p.m. No meetings in July or December.\nContact Kelly Pulley & Katy Leach for meeting locations:(260) 255-4530\, leave a message to receive a return call.
URL:https://stillwater-hospice.org/event/compassionate-friends-3/2026-11-05/
LOCATION:IN
END:VEVENT
BEGIN:VEVENT
DTSTART;TZID=America/Indiana/Indianapolis:20261109T183000
DTEND;TZID=America/Indiana/Indianapolis:20261109T200000
DTSTAMP:20260422T162525
CREATED:20221011T184914Z
LAST-MODIFIED:20251219T164736Z
UID:10003969-1794249000-1794254400@stillwater-hospice.org
SUMMARY:LGBTQ+ Grief Support Group
DESCRIPTION:For members of the LGBTQ+ community who have lost partners or loved ones\n2nd Monday of each month • 6:30-8 p.m. \nPlease call (260) 435-3261 or email GriefCenter@stillwater-hospice.org by the Wednesday prior to each meeting to complete the required registration.
URL:https://stillwater-hospice.org/event/lgbtq-grief-support-group/2026-11-09/
LOCATION:Fort Wayne Pride Center\, 527 W. Berrry St.\, Fort Wayne\, IN\, 46802\, United States
END:VEVENT
BEGIN:VEVENT
DTSTART;TZID=America/Indiana/Indianapolis:20261110T173000
DTEND;TZID=America/Indiana/Indianapolis:20261110T190000
DTSTAMP:20260422T162525
CREATED:20231206T190243Z
LAST-MODIFIED:20251219T164441Z
UID:10002619-1794331800-1794337200@stillwater-hospice.org
SUMMARY:General Loss Grief Support Group
DESCRIPTION:For any adult experiencing grief due to the death of a loved one.
URL:https://stillwater-hospice.org/event/general-loss-grief-support-group/2026-11-10/
LOCATION:IN
END:VEVENT
BEGIN:VEVENT
DTSTART;TZID=America/Indiana/Indianapolis:20261110T180000
DTEND;TZID=America/Indiana/Indianapolis:20261110T193000
DTSTAMP:20260422T162525
CREATED:20221011T184737Z
LAST-MODIFIED:20251219T164825Z
UID:10003449-1794333600-1794339000@stillwater-hospice.org
SUMMARY:Auburn Grief Support Group
DESCRIPTION:For any loss due to death\n2nd & 4th Tuesday of each month • 6-7:30 p.m.\nPlease call (260) 435-3261 or email GriefCenter@stillwater-hospice.org by the Wednesday prior to each meeting to complete the required registration.
URL:https://stillwater-hospice.org/event/auburn-grief-support-group-3/2026-11-10/
LOCATION:First Christian Church\, 910 N. Indiana Ave.\, Auburn\, IN\, United States
END:VEVENT
BEGIN:VEVENT
DTSTART;TZID=America/Indiana/Indianapolis:20261111T100000
DTEND;TZID=America/Indiana/Indianapolis:20261111T105000
DTSTAMP:20260422T162525
CREATED:20251218T194020Z
LAST-MODIFIED:20251218T194020Z
UID:10005109-1794391200-1794394200@stillwater-hospice.org
SUMMARY:Yoga for Respite & Restoration
DESCRIPTION:A 50 minute practice of gentle\, mindful movement that encourages rest. Participants are welcome to practice in a chair or on a mat. Props are provided. No experience required. **For the health & safety of our facilitators and participants\, please refrain from wearing scented lotions and perfumes.** \nClick here to complete the required registration by the Monday prior to each session.
URL:https://stillwater-hospice.org/event/yoga-for-respite-restoration/2026-11-11/
LOCATION:The Peggy F. Murphy Community Grief Center\, 5920 Homestead Road\, Fort. Wayne\, IN\, 46814
ATTACH;FMTTYPE=image/jpeg:https://stillwater-hospice.org/wp-content/uploads/2025/12/2026-Yoga.jpg
END:VEVENT
BEGIN:VEVENT
DTSTART;TZID=America/Indiana/Indianapolis:20261111T140000
DTEND;TZID=America/Indiana/Indianapolis:20261111T153000
DTSTAMP:20260422T162525
CREATED:20221011T195921Z
LAST-MODIFIED:20221011T200219Z
UID:10003519-1794405600-1794411000@stillwater-hospice.org
SUMMARY:Women's Afternoon Grief Support Group
DESCRIPTION:After the death of a spouse or significant other 2nd & 4th Wednesday of each month • 2-3:30 p.m.
URL:https://stillwater-hospice.org/event/womens-afternoon-grief-support-group/2026-11-11/
LOCATION:Peggy F. Murphy Community Grief Center\, 5920 Homestead Road\, Fort Wayne\, IN\, 46814
END:VEVENT
BEGIN:VEVENT
DTSTART;TZID=America/Indiana/Indianapolis:20261111T190000
DTEND;TZID=America/Indiana/Indianapolis:20261111T203000
DTSTAMP:20260422T162525
CREATED:20220429T230505Z
LAST-MODIFIED:20250703T143207Z
UID:10003232-1794423600-1794429000@stillwater-hospice.org
SUMMARY:We the Living Grief Support Group
DESCRIPTION:Support group for those grieving the loss of someone to suicide.
URL:https://stillwater-hospice.org/event/we-the-living-grief-support-group/2026-11-11/
LOCATION:Peggy F. Murphy Community Grief Center\, 5920 Homestead Road\, Fort Wayne\, IN\, 46814
END:VEVENT
BEGIN:VEVENT
DTSTART;TZID=America/Indiana/Indianapolis:20261114T100000
DTEND;TZID=America/Indiana/Indianapolis:20261114T113000
DTSTAMP:20260422T162525
CREATED:20251218T193309Z
LAST-MODIFIED:20251218T193309Z
UID:10005100-1794650400-1794655800@stillwater-hospice.org
SUMMARY:Death Cafe
DESCRIPTION:A group-directed discussion on death and dying over coffee or tea and baked goods. No agenda\, objectives\, or themes. This is not a grief support group\, space to process grief\, or educational seminar.**For the health & safety of our facilitators and participants\, please refrain from wearing scented lotions and perfumes.** \nClick here to complete the required registration by the Wednesday prior to each session.
URL:https://stillwater-hospice.org/event/death-cafe/2026-11-14/
LOCATION:The Peggy F. Murphy Community Grief Center\, 5920 Homestead Road\, Fort. Wayne\, IN\, 46814
ATTACH;FMTTYPE=image/jpeg:https://stillwater-hospice.org/wp-content/uploads/2025/12/Death-Cafe-General.jpg
END:VEVENT
BEGIN:VEVENT
DTSTART;TZID=America/Indiana/Indianapolis:20261116T174500
DTEND;TZID=America/Indiana/Indianapolis:20261116T191500
DTSTAMP:20260422T162525
CREATED:20221011T183851Z
LAST-MODIFIED:20250530T171802Z
UID:10002368-1794851100-1794856500@stillwater-hospice.org
SUMMARY:Women's Evening Grief Support Group
DESCRIPTION:After the death of a spouse or significant other 3rd Monday of each month • 5:45-7:15 p.m. \n 
URL:https://stillwater-hospice.org/event/womens-evening-grief-support-group/2026-11-16/
LOCATION:Peggy F. Murphy Community Grief Center\, 5920 Homestead Road\, Fort Wayne\, IN\, 46814
END:VEVENT
BEGIN:VEVENT
DTSTART;TZID=America/Indiana/Indianapolis:20261116T183000
DTEND;TZID=America/Indiana/Indianapolis:20261116T193000
DTSTAMP:20260422T162525
CREATED:20221013T100006Z
LAST-MODIFIED:20230425T222531Z
UID:10003579-1794853800-1794857400@stillwater-hospice.org
SUMMARY:Stellhorn Grief Support Group
DESCRIPTION:For any loss due to death. 1st & 3rd Monday of each month • 6:30-7:30 p.m. Please call (260) 435-3261 to register. RSVPs are needed by the Wednesday prior to the meeting date.
URL:https://stillwater-hospice.org/event/stellhorn-grief-support-group-2/2026-11-16/
LOCATION:Messiah Lutheran Church\, 7211 Stellhorn Road\, Fort Wayne\, IN\, 46815
END:VEVENT
BEGIN:VEVENT
DTSTART;TZID=America/Indiana/Indianapolis:20261118T173000
DTEND;TZID=America/Indiana/Indianapolis:20261118T183000
DTSTAMP:20260422T162525
CREATED:20251218T192631Z
LAST-MODIFIED:20260211T194838Z
UID:10005093-1795023000-1795026600@stillwater-hospice.org
SUMMARY:MELT Method
DESCRIPTION:MELT is an easy to learn self-treatment method that can help with the common physical symptoms of grief. Restore your nervous system and releases stuck stress. Ease chronic pain and stiffness.**For the health & safety of our facilitators and participants\, please refrain from wearing scented lotions and perfumes.** \nClick here to complete the required registration the Friday prior to each session.
URL:https://stillwater-hospice.org/event/melt-method-5/2026-11-18/
LOCATION:The Peggy F. Murphy Community Grief Center\, 5920 Homestead Road\, Fort. Wayne\, IN\, 46814
ATTACH;FMTTYPE=image/jpeg:https://stillwater-hospice.org/wp-content/uploads/2025/12/MELT-General-Promo.jpg
END:VEVENT
BEGIN:VEVENT
DTSTART;TZID=America/Indiana/Indianapolis:20261118T180000
DTEND;TZID=America/Indiana/Indianapolis:20261118T190000
DTSTAMP:20260422T162525
CREATED:20221011T171631Z
LAST-MODIFIED:20250121T183852Z
UID:10002998-1795024800-1795028400@stillwater-hospice.org
SUMMARY:Pet Loss Grief Support Group
DESCRIPTION:For those who are grieving the loss of a beloved pet. \nRSVP required to attend. Please call (260) 435-3261 or email GriefCenter@stillwater-hospice.org to register by the Wednesday prior to the meeting date. \n 
URL:https://stillwater-hospice.org/event/pet-loss-grief-support-group/2026-11-18/
LOCATION:Peggy F. Murphy Community Grief Center\, 5920 Homestead Road\, Fort Wayne\, IN\, 46814
END:VEVENT
BEGIN:VEVENT
DTSTART;TZID=America/Indiana/Indianapolis:20261119T100000
DTEND;TZID=America/Indiana/Indianapolis:20261119T110000
DTSTAMP:20260422T162525
CREATED:20251218T191733Z
LAST-MODIFIED:20260211T194954Z
UID:10005084-1795082400-1795086000@stillwater-hospice.org
SUMMARY:Drum Circle
DESCRIPTION:Drum Circles offer an opportunity to express your emotions and shift your mood through drums and other percussion instruments. Experience rhythm and community bonding. No experience necessary. **For the health & safety of our facilitators and participants\, please refrain from wearing scented lotions and perfumes.** \nClick here to complete the required registration the Friday prior to each session.
URL:https://stillwater-hospice.org/event/drum-circle-5/2026-11-19/
LOCATION:The Peggy F. Murphy Community Grief Center\, 5920 Homestead Road\, Fort. Wayne\, IN\, 46814
ATTACH;FMTTYPE=image/jpeg:https://stillwater-hospice.org/wp-content/uploads/2026/02/Drum-Circle-General-Promo.jpg
END:VEVENT
BEGIN:VEVENT
DTSTART;TZID=America/Indiana/Indianapolis:20261119T130000
DTEND;TZID=America/Indiana/Indianapolis:20261119T143000
DTSTAMP:20260422T162525
CREATED:20251219T171210Z
LAST-MODIFIED:20251219T171210Z
UID:10005384-1795093200-1795098600@stillwater-hospice.org
SUMMARY:Men's Grief Support Group
DESCRIPTION:After the death of a spouse or significant other. 1st & 3rd Thursday of each month.\nPlease call 260-435-3261 or email GriefCenter@stillwater-hospice.org to complete the required registration the week prior to each meeting date.
URL:https://stillwater-hospice.org/event/mens-grief-support-group-3/2026-11-19/
LOCATION:The Peggy F. Murphy Community Grief Center\, 5920 Homestead Road\, Fort. Wayne\, IN\, 46814
END:VEVENT
BEGIN:VEVENT
DTSTART;TZID=America/Indiana/Indianapolis:20261120T100000
DTEND;TZID=America/Indiana/Indianapolis:20261120T113000
DTSTAMP:20260422T162525
CREATED:20251218T194823Z
LAST-MODIFIED:20260225T190241Z
UID:10005130-1795168800-1795174200@stillwater-hospice.org
SUMMARY:Grief Hikes with ACRES
DESCRIPTION:Hikes are supported by the Ralph E. Taylor Conservation Fund \nMovement in nature can help with processing emotions and bring a sense of calm and connection. Join us on a monthly hike with ACRES. Open to any adult who has experienced a death-related loss. Held at various ACRES Locations \nClick here to complete the required registration by the Monday prior to each session.
URL:https://stillwater-hospice.org/event/grief-hikes-with-acres/2026-11-20/
LOCATION:IN
ATTACH;FMTTYPE=image/jpeg:https://stillwater-hospice.org/wp-content/uploads/2025/12/GeneralHikeInfo.jpg
END:VEVENT
BEGIN:VEVENT
DTSTART;TZID=America/Indiana/Indianapolis:20261123T183000
DTEND;TZID=America/Indiana/Indianapolis:20261123T200000
DTSTAMP:20260422T162525
CREATED:20250505T194940Z
LAST-MODIFIED:20260126T145141Z
UID:10005255-1795458600-1795464000@stillwater-hospice.org
SUMMARY:Finding Hope
DESCRIPTION:For those who have lost a loved one to suicide completion. 4th Monday of every month. \nRSVP required by the Wednesday prior to meeting. Register by emailing GriefCenter@stillwater-hospice.org or calling 260-435-3261.
URL:https://stillwater-hospice.org/event/finding-hope-2/2026-11-23/
LOCATION:Peggy F. Murphy Community Grief Center\, 5920 Homestead Road\, Fort Wayne\, IN\, 46814
END:VEVENT
BEGIN:VEVENT
DTSTART;TZID=America/Indiana/Indianapolis:20261124T173000
DTEND;TZID=America/Indiana/Indianapolis:20261124T190000
DTSTAMP:20260422T162525
CREATED:20231206T190420Z
LAST-MODIFIED:20241119T211115Z
UID:10002678-1795541400-1795546800@stillwater-hospice.org
SUMMARY:General Loss Grief Support Group
DESCRIPTION:For any adult experiencing grief due to the death of a loved one.
URL:https://stillwater-hospice.org/event/general-loss-grief-support-group-2/2026-11-24/
LOCATION:Peggy F. Murphy Community Grief Center\, 5920 Homestead Road\, Fort Wayne\, IN\, 46814
END:VEVENT
BEGIN:VEVENT
DTSTART;TZID=America/Indiana/Indianapolis:20261124T180000
DTEND;TZID=America/Indiana/Indianapolis:20261124T193000
DTSTAMP:20260422T162525
CREATED:20221109T230157Z
LAST-MODIFIED:20251219T164757Z
UID:10005183-1795543200-1795548600@stillwater-hospice.org
SUMMARY:Auburn Grief Support Group
DESCRIPTION:For any loss due to death\n2nd & 4th Tuesday of each month • 6-7:30 p.m.\nPlease call (260) 435-3261 or email GriefCenter@stillwater-hospice.org by the Wednesday prior to each meeting to complete the required registration.
URL:https://stillwater-hospice.org/event/auburn-grief-support-group-2/2026-11-24/
LOCATION:First Christian Church\, 910 N. Indiana Ave.\, Auburn\, IN\, United States
END:VEVENT
BEGIN:VEVENT
DTSTART;TZID=America/Indiana/Indianapolis:20261125T100000
DTEND;TZID=America/Indiana/Indianapolis:20261125T105000
DTSTAMP:20260422T162525
CREATED:20251218T194203Z
LAST-MODIFIED:20260226T204221Z
UID:10005120-1795600800-1795603800@stillwater-hospice.org
SUMMARY:Yoga for Respite & Restoration
DESCRIPTION:A 50 minute practice of gentle\, mindful movement that encourages rest. Participants are welcome to practice in a chair or on a mat. Props are provided. No experience required. **For the health & safety of our facilitators and participants\, please refrain from wearing scented lotions and perfumes.** \nClick here to complete the required registration by the Monday prior to each session.
URL:https://stillwater-hospice.org/event/yoga-for-respite-restoration-2/2026-11-25/
LOCATION:The Peggy F. Murphy Community Grief Center\, 5920 Homestead Road\, Fort. Wayne\, IN\, 46814
ATTACH;FMTTYPE=image/jpeg:https://stillwater-hospice.org/wp-content/uploads/2025/12/2026-Yoga.jpg
END:VEVENT
BEGIN:VEVENT
DTSTART;TZID=America/Indiana/Indianapolis:20261125T140000
DTEND;TZID=America/Indiana/Indianapolis:20261125T153000
DTSTAMP:20260422T162525
CREATED:20250530T171616Z
LAST-MODIFIED:20251219T165012Z
UID:10004502-1795615200-1795620600@stillwater-hospice.org
SUMMARY:Women's Afternoon Grief Support Group
DESCRIPTION:After the death of a spouse or significant other 2nd & 4th Wednesday of each month • 2-3:30 p.m.
URL:https://stillwater-hospice.org/event/womens-afternoon-grief-support-group-2/2026-11-25/
LOCATION:The Peggy F. Murphy Community Grief Center\, 5920 Homestead Road\, Fort. Wayne\, IN\, 46814
END:VEVENT
END:VCALENDAR