BEGIN:VCALENDAR
VERSION:2.0
PRODID:-//Stillwater Hospice - ECPv6.15.20//NONSGML v1.0//EN
CALSCALE:GREGORIAN
METHOD:PUBLISH
X-ORIGINAL-URL:https://stillwater-hospice.org
X-WR-CALDESC:Events for Stillwater Hospice
REFRESH-INTERVAL;VALUE=DURATION:PT1H
X-Robots-Tag:noindex
X-PUBLISHED-TTL:PT1H
BEGIN:VTIMEZONE
TZID:America/Indiana/Indianapolis
BEGIN:DAYLIGHT
TZOFFSETFROM:-0500
TZOFFSETTO:-0400
TZNAME:EDT
DTSTART:20280312T070000
END:DAYLIGHT
BEGIN:STANDARD
TZOFFSETFROM:-0400
TZOFFSETTO:-0500
TZNAME:EST
DTSTART:20281105T060000
END:STANDARD
BEGIN:DAYLIGHT
TZOFFSETFROM:-0500
TZOFFSETTO:-0400
TZNAME:EDT
DTSTART:20290311T070000
END:DAYLIGHT
BEGIN:STANDARD
TZOFFSETFROM:-0400
TZOFFSETTO:-0500
TZNAME:EST
DTSTART:20291104T060000
END:STANDARD
BEGIN:DAYLIGHT
TZOFFSETFROM:-0500
TZOFFSETTO:-0400
TZNAME:EDT
DTSTART:20300310T070000
END:DAYLIGHT
BEGIN:STANDARD
TZOFFSETFROM:-0400
TZOFFSETTO:-0500
TZNAME:EST
DTSTART:20301103T060000
END:STANDARD
BEGIN:DAYLIGHT
TZOFFSETFROM:-0500
TZOFFSETTO:-0400
TZNAME:EDT
DTSTART:20310309T070000
END:DAYLIGHT
BEGIN:STANDARD
TZOFFSETFROM:-0400
TZOFFSETTO:-0500
TZNAME:EST
DTSTART:20311102T060000
END:STANDARD
END:VTIMEZONE
BEGIN:VEVENT
DTSTART;TZID=America/Indiana/Indianapolis:20290424T180000
DTEND;TZID=America/Indiana/Indianapolis:20290424T193000
DTSTAMP:20260422T185244
CREATED:20221109T230157Z
LAST-MODIFIED:20251219T164757Z
UID:10005212-1871748000-1871753400@stillwater-hospice.org
SUMMARY:Auburn Grief Support Group
DESCRIPTION:For any loss due to death\n2nd & 4th Tuesday of each month • 6-7:30 p.m.\nPlease call (260) 435-3261 or email GriefCenter@stillwater-hospice.org by the Wednesday prior to each meeting to complete the required registration.
URL:https://stillwater-hospice.org/event/auburn-grief-support-group-2/2029-04-24/
LOCATION:First Christian Church\, 910 N. Indiana Ave.\, Auburn\, IN\, United States
END:VEVENT
BEGIN:VEVENT
DTSTART;TZID=America/Indiana/Indianapolis:20290508T180000
DTEND;TZID=America/Indiana/Indianapolis:20290508T193000
DTSTAMP:20260422T185244
CREATED:20221011T184737Z
LAST-MODIFIED:20251219T164825Z
UID:10003479-1872957600-1872963000@stillwater-hospice.org
SUMMARY:Auburn Grief Support Group
DESCRIPTION:For any loss due to death\n2nd & 4th Tuesday of each month • 6-7:30 p.m.\nPlease call (260) 435-3261 or email GriefCenter@stillwater-hospice.org by the Wednesday prior to each meeting to complete the required registration.
URL:https://stillwater-hospice.org/event/auburn-grief-support-group-3/2029-05-08/
LOCATION:First Christian Church\, 910 N. Indiana Ave.\, Auburn\, IN\, United States
END:VEVENT
BEGIN:VEVENT
DTSTART;TZID=America/Indiana/Indianapolis:20290522T180000
DTEND;TZID=America/Indiana/Indianapolis:20290522T193000
DTSTAMP:20260422T185244
CREATED:20221109T230157Z
LAST-MODIFIED:20251219T164757Z
UID:10005213-1874167200-1874172600@stillwater-hospice.org
SUMMARY:Auburn Grief Support Group
DESCRIPTION:For any loss due to death\n2nd & 4th Tuesday of each month • 6-7:30 p.m.\nPlease call (260) 435-3261 or email GriefCenter@stillwater-hospice.org by the Wednesday prior to each meeting to complete the required registration.
URL:https://stillwater-hospice.org/event/auburn-grief-support-group-2/2029-05-22/
LOCATION:First Christian Church\, 910 N. Indiana Ave.\, Auburn\, IN\, United States
END:VEVENT
BEGIN:VEVENT
DTSTART;TZID=America/Indiana/Indianapolis:20290612T180000
DTEND;TZID=America/Indiana/Indianapolis:20290612T193000
DTSTAMP:20260422T185244
CREATED:20221011T184737Z
LAST-MODIFIED:20251219T164825Z
UID:10003480-1875981600-1875987000@stillwater-hospice.org
SUMMARY:Auburn Grief Support Group
DESCRIPTION:For any loss due to death\n2nd & 4th Tuesday of each month • 6-7:30 p.m.\nPlease call (260) 435-3261 or email GriefCenter@stillwater-hospice.org by the Wednesday prior to each meeting to complete the required registration.
URL:https://stillwater-hospice.org/event/auburn-grief-support-group-3/2029-06-12/
LOCATION:First Christian Church\, 910 N. Indiana Ave.\, Auburn\, IN\, United States
END:VEVENT
BEGIN:VEVENT
DTSTART;TZID=America/Indiana/Indianapolis:20290626T180000
DTEND;TZID=America/Indiana/Indianapolis:20290626T193000
DTSTAMP:20260422T185244
CREATED:20221109T230157Z
LAST-MODIFIED:20251219T164757Z
UID:10005214-1877191200-1877196600@stillwater-hospice.org
SUMMARY:Auburn Grief Support Group
DESCRIPTION:For any loss due to death\n2nd & 4th Tuesday of each month • 6-7:30 p.m.\nPlease call (260) 435-3261 or email GriefCenter@stillwater-hospice.org by the Wednesday prior to each meeting to complete the required registration.
URL:https://stillwater-hospice.org/event/auburn-grief-support-group-2/2029-06-26/
LOCATION:First Christian Church\, 910 N. Indiana Ave.\, Auburn\, IN\, United States
END:VEVENT
BEGIN:VEVENT
DTSTART;TZID=America/Indiana/Indianapolis:20290710T180000
DTEND;TZID=America/Indiana/Indianapolis:20290710T193000
DTSTAMP:20260422T185244
CREATED:20221011T184737Z
LAST-MODIFIED:20251219T164825Z
UID:10003481-1878400800-1878406200@stillwater-hospice.org
SUMMARY:Auburn Grief Support Group
DESCRIPTION:For any loss due to death\n2nd & 4th Tuesday of each month • 6-7:30 p.m.\nPlease call (260) 435-3261 or email GriefCenter@stillwater-hospice.org by the Wednesday prior to each meeting to complete the required registration.
URL:https://stillwater-hospice.org/event/auburn-grief-support-group-3/2029-07-10/
LOCATION:First Christian Church\, 910 N. Indiana Ave.\, Auburn\, IN\, United States
END:VEVENT
BEGIN:VEVENT
DTSTART;TZID=America/Indiana/Indianapolis:20290724T180000
DTEND;TZID=America/Indiana/Indianapolis:20290724T193000
DTSTAMP:20260422T185244
CREATED:20221109T230157Z
LAST-MODIFIED:20251219T164757Z
UID:10005215-1879610400-1879615800@stillwater-hospice.org
SUMMARY:Auburn Grief Support Group
DESCRIPTION:For any loss due to death\n2nd & 4th Tuesday of each month • 6-7:30 p.m.\nPlease call (260) 435-3261 or email GriefCenter@stillwater-hospice.org by the Wednesday prior to each meeting to complete the required registration.
URL:https://stillwater-hospice.org/event/auburn-grief-support-group-2/2029-07-24/
LOCATION:First Christian Church\, 910 N. Indiana Ave.\, Auburn\, IN\, United States
END:VEVENT
BEGIN:VEVENT
DTSTART;TZID=America/Indiana/Indianapolis:20290814T180000
DTEND;TZID=America/Indiana/Indianapolis:20290814T193000
DTSTAMP:20260422T185244
CREATED:20221011T184737Z
LAST-MODIFIED:20251219T164825Z
UID:10003758-1881424800-1881430200@stillwater-hospice.org
SUMMARY:Auburn Grief Support Group
DESCRIPTION:For any loss due to death\n2nd & 4th Tuesday of each month • 6-7:30 p.m.\nPlease call (260) 435-3261 or email GriefCenter@stillwater-hospice.org by the Wednesday prior to each meeting to complete the required registration.
URL:https://stillwater-hospice.org/event/auburn-grief-support-group-3/2029-08-14/
LOCATION:First Christian Church\, 910 N. Indiana Ave.\, Auburn\, IN\, United States
END:VEVENT
BEGIN:VEVENT
DTSTART;TZID=America/Indiana/Indianapolis:20290828T180000
DTEND;TZID=America/Indiana/Indianapolis:20290828T193000
DTSTAMP:20260422T185244
CREATED:20221109T230157Z
LAST-MODIFIED:20251219T164757Z
UID:10005216-1882634400-1882639800@stillwater-hospice.org
SUMMARY:Auburn Grief Support Group
DESCRIPTION:For any loss due to death\n2nd & 4th Tuesday of each month • 6-7:30 p.m.\nPlease call (260) 435-3261 or email GriefCenter@stillwater-hospice.org by the Wednesday prior to each meeting to complete the required registration.
URL:https://stillwater-hospice.org/event/auburn-grief-support-group-2/2029-08-28/
LOCATION:First Christian Church\, 910 N. Indiana Ave.\, Auburn\, IN\, United States
END:VEVENT
BEGIN:VEVENT
DTSTART;TZID=America/Indiana/Indianapolis:20290911T180000
DTEND;TZID=America/Indiana/Indianapolis:20290911T193000
DTSTAMP:20260422T185244
CREATED:20221011T184737Z
LAST-MODIFIED:20251219T164825Z
UID:10003938-1883844000-1883849400@stillwater-hospice.org
SUMMARY:Auburn Grief Support Group
DESCRIPTION:For any loss due to death\n2nd & 4th Tuesday of each month • 6-7:30 p.m.\nPlease call (260) 435-3261 or email GriefCenter@stillwater-hospice.org by the Wednesday prior to each meeting to complete the required registration.
URL:https://stillwater-hospice.org/event/auburn-grief-support-group-3/2029-09-11/
LOCATION:First Christian Church\, 910 N. Indiana Ave.\, Auburn\, IN\, United States
END:VEVENT
BEGIN:VEVENT
DTSTART;TZID=America/Indiana/Indianapolis:20290925T180000
DTEND;TZID=America/Indiana/Indianapolis:20290925T193000
DTSTAMP:20260422T185244
CREATED:20221109T230157Z
LAST-MODIFIED:20251219T164757Z
UID:10005217-1885053600-1885059000@stillwater-hospice.org
SUMMARY:Auburn Grief Support Group
DESCRIPTION:For any loss due to death\n2nd & 4th Tuesday of each month • 6-7:30 p.m.\nPlease call (260) 435-3261 or email GriefCenter@stillwater-hospice.org by the Wednesday prior to each meeting to complete the required registration.
URL:https://stillwater-hospice.org/event/auburn-grief-support-group-2/2029-09-25/
LOCATION:First Christian Church\, 910 N. Indiana Ave.\, Auburn\, IN\, United States
END:VEVENT
BEGIN:VEVENT
DTSTART;TZID=America/Indiana/Indianapolis:20291009T180000
DTEND;TZID=America/Indiana/Indianapolis:20291009T193000
DTSTAMP:20260422T185244
CREATED:20221011T184737Z
LAST-MODIFIED:20251219T164825Z
UID:10004024-1886263200-1886268600@stillwater-hospice.org
SUMMARY:Auburn Grief Support Group
DESCRIPTION:For any loss due to death\n2nd & 4th Tuesday of each month • 6-7:30 p.m.\nPlease call (260) 435-3261 or email GriefCenter@stillwater-hospice.org by the Wednesday prior to each meeting to complete the required registration.
URL:https://stillwater-hospice.org/event/auburn-grief-support-group-3/2029-10-09/
LOCATION:First Christian Church\, 910 N. Indiana Ave.\, Auburn\, IN\, United States
END:VEVENT
BEGIN:VEVENT
DTSTART;TZID=America/Indiana/Indianapolis:20291023T180000
DTEND;TZID=America/Indiana/Indianapolis:20291023T193000
DTSTAMP:20260422T185244
CREATED:20221109T230157Z
LAST-MODIFIED:20251219T164757Z
UID:10005218-1887472800-1887478200@stillwater-hospice.org
SUMMARY:Auburn Grief Support Group
DESCRIPTION:For any loss due to death\n2nd & 4th Tuesday of each month • 6-7:30 p.m.\nPlease call (260) 435-3261 or email GriefCenter@stillwater-hospice.org by the Wednesday prior to each meeting to complete the required registration.
URL:https://stillwater-hospice.org/event/auburn-grief-support-group-2/2029-10-23/
LOCATION:First Christian Church\, 910 N. Indiana Ave.\, Auburn\, IN\, United States
END:VEVENT
BEGIN:VEVENT
DTSTART;TZID=America/Indiana/Indianapolis:20291113T180000
DTEND;TZID=America/Indiana/Indianapolis:20291113T193000
DTSTAMP:20260422T185244
CREATED:20221011T184737Z
LAST-MODIFIED:20251219T164825Z
UID:10004045-1889287200-1889292600@stillwater-hospice.org
SUMMARY:Auburn Grief Support Group
DESCRIPTION:For any loss due to death\n2nd & 4th Tuesday of each month • 6-7:30 p.m.\nPlease call (260) 435-3261 or email GriefCenter@stillwater-hospice.org by the Wednesday prior to each meeting to complete the required registration.
URL:https://stillwater-hospice.org/event/auburn-grief-support-group-3/2029-11-13/
LOCATION:First Christian Church\, 910 N. Indiana Ave.\, Auburn\, IN\, United States
END:VEVENT
BEGIN:VEVENT
DTSTART;TZID=America/Indiana/Indianapolis:20291127T180000
DTEND;TZID=America/Indiana/Indianapolis:20291127T193000
DTSTAMP:20260422T185244
CREATED:20221109T230157Z
LAST-MODIFIED:20251219T164757Z
UID:10005219-1890496800-1890502200@stillwater-hospice.org
SUMMARY:Auburn Grief Support Group
DESCRIPTION:For any loss due to death\n2nd & 4th Tuesday of each month • 6-7:30 p.m.\nPlease call (260) 435-3261 or email GriefCenter@stillwater-hospice.org by the Wednesday prior to each meeting to complete the required registration.
URL:https://stillwater-hospice.org/event/auburn-grief-support-group-2/2029-11-27/
LOCATION:First Christian Church\, 910 N. Indiana Ave.\, Auburn\, IN\, United States
END:VEVENT
BEGIN:VEVENT
DTSTART;TZID=America/Indiana/Indianapolis:20291211T180000
DTEND;TZID=America/Indiana/Indianapolis:20291211T193000
DTSTAMP:20260422T185244
CREATED:20221011T184737Z
LAST-MODIFIED:20251219T164825Z
UID:10005159-1891706400-1891711800@stillwater-hospice.org
SUMMARY:Auburn Grief Support Group
DESCRIPTION:For any loss due to death\n2nd & 4th Tuesday of each month • 6-7:30 p.m.\nPlease call (260) 435-3261 or email GriefCenter@stillwater-hospice.org by the Wednesday prior to each meeting to complete the required registration.
URL:https://stillwater-hospice.org/event/auburn-grief-support-group-3/2029-12-11/
LOCATION:First Christian Church\, 910 N. Indiana Ave.\, Auburn\, IN\, United States
END:VEVENT
BEGIN:VEVENT
DTSTART;TZID=America/Indiana/Indianapolis:20291225T180000
DTEND;TZID=America/Indiana/Indianapolis:20291225T193000
DTSTAMP:20260422T185244
CREATED:20221109T230157Z
LAST-MODIFIED:20251219T164757Z
UID:10005220-1892916000-1892921400@stillwater-hospice.org
SUMMARY:Auburn Grief Support Group
DESCRIPTION:For any loss due to death\n2nd & 4th Tuesday of each month • 6-7:30 p.m.\nPlease call (260) 435-3261 or email GriefCenter@stillwater-hospice.org by the Wednesday prior to each meeting to complete the required registration.
URL:https://stillwater-hospice.org/event/auburn-grief-support-group-2/2029-12-25/
LOCATION:First Christian Church\, 910 N. Indiana Ave.\, Auburn\, IN\, United States
END:VEVENT
BEGIN:VEVENT
DTSTART;TZID=America/Indiana/Indianapolis:20300108T180000
DTEND;TZID=America/Indiana/Indianapolis:20300108T193000
DTSTAMP:20260422T185244
CREATED:20221011T184737Z
LAST-MODIFIED:20251219T164825Z
UID:10005160-1894125600-1894131000@stillwater-hospice.org
SUMMARY:Auburn Grief Support Group
DESCRIPTION:For any loss due to death\n2nd & 4th Tuesday of each month • 6-7:30 p.m.\nPlease call (260) 435-3261 or email GriefCenter@stillwater-hospice.org by the Wednesday prior to each meeting to complete the required registration.
URL:https://stillwater-hospice.org/event/auburn-grief-support-group-3/2030-01-08/
LOCATION:First Christian Church\, 910 N. Indiana Ave.\, Auburn\, IN\, United States
END:VEVENT
BEGIN:VEVENT
DTSTART;TZID=America/Indiana/Indianapolis:20300122T180000
DTEND;TZID=America/Indiana/Indianapolis:20300122T193000
DTSTAMP:20260422T185244
CREATED:20221109T230157Z
LAST-MODIFIED:20251219T164757Z
UID:10005221-1895335200-1895340600@stillwater-hospice.org
SUMMARY:Auburn Grief Support Group
DESCRIPTION:For any loss due to death\n2nd & 4th Tuesday of each month • 6-7:30 p.m.\nPlease call (260) 435-3261 or email GriefCenter@stillwater-hospice.org by the Wednesday prior to each meeting to complete the required registration.
URL:https://stillwater-hospice.org/event/auburn-grief-support-group-2/2030-01-22/
LOCATION:First Christian Church\, 910 N. Indiana Ave.\, Auburn\, IN\, United States
END:VEVENT
BEGIN:VEVENT
DTSTART;TZID=America/Indiana/Indianapolis:20300212T180000
DTEND;TZID=America/Indiana/Indianapolis:20300212T193000
DTSTAMP:20260422T185244
CREATED:20221011T184737Z
LAST-MODIFIED:20251219T164825Z
UID:10005161-1897149600-1897155000@stillwater-hospice.org
SUMMARY:Auburn Grief Support Group
DESCRIPTION:For any loss due to death\n2nd & 4th Tuesday of each month • 6-7:30 p.m.\nPlease call (260) 435-3261 or email GriefCenter@stillwater-hospice.org by the Wednesday prior to each meeting to complete the required registration.
URL:https://stillwater-hospice.org/event/auburn-grief-support-group-3/2030-02-12/
LOCATION:First Christian Church\, 910 N. Indiana Ave.\, Auburn\, IN\, United States
END:VEVENT
BEGIN:VEVENT
DTSTART;TZID=America/Indiana/Indianapolis:20300226T180000
DTEND;TZID=America/Indiana/Indianapolis:20300226T193000
DTSTAMP:20260422T185244
CREATED:20221109T230157Z
LAST-MODIFIED:20251219T164757Z
UID:10005222-1898359200-1898364600@stillwater-hospice.org
SUMMARY:Auburn Grief Support Group
DESCRIPTION:For any loss due to death\n2nd & 4th Tuesday of each month • 6-7:30 p.m.\nPlease call (260) 435-3261 or email GriefCenter@stillwater-hospice.org by the Wednesday prior to each meeting to complete the required registration.
URL:https://stillwater-hospice.org/event/auburn-grief-support-group-2/2030-02-26/
LOCATION:First Christian Church\, 910 N. Indiana Ave.\, Auburn\, IN\, United States
END:VEVENT
BEGIN:VEVENT
DTSTART;TZID=America/Indiana/Indianapolis:20300312T180000
DTEND;TZID=America/Indiana/Indianapolis:20300312T193000
DTSTAMP:20260422T185244
CREATED:20221011T184737Z
LAST-MODIFIED:20251219T164825Z
UID:10005162-1899568800-1899574200@stillwater-hospice.org
SUMMARY:Auburn Grief Support Group
DESCRIPTION:For any loss due to death\n2nd & 4th Tuesday of each month • 6-7:30 p.m.\nPlease call (260) 435-3261 or email GriefCenter@stillwater-hospice.org by the Wednesday prior to each meeting to complete the required registration.
URL:https://stillwater-hospice.org/event/auburn-grief-support-group-3/2030-03-12/
LOCATION:First Christian Church\, 910 N. Indiana Ave.\, Auburn\, IN\, United States
END:VEVENT
BEGIN:VEVENT
DTSTART;TZID=America/Indiana/Indianapolis:20300326T180000
DTEND;TZID=America/Indiana/Indianapolis:20300326T193000
DTSTAMP:20260422T185244
CREATED:20221109T230157Z
LAST-MODIFIED:20251219T164757Z
UID:10005223-1900778400-1900783800@stillwater-hospice.org
SUMMARY:Auburn Grief Support Group
DESCRIPTION:For any loss due to death\n2nd & 4th Tuesday of each month • 6-7:30 p.m.\nPlease call (260) 435-3261 or email GriefCenter@stillwater-hospice.org by the Wednesday prior to each meeting to complete the required registration.
URL:https://stillwater-hospice.org/event/auburn-grief-support-group-2/2030-03-26/
LOCATION:First Christian Church\, 910 N. Indiana Ave.\, Auburn\, IN\, United States
END:VEVENT
BEGIN:VEVENT
DTSTART;TZID=America/Indiana/Indianapolis:20300409T180000
DTEND;TZID=America/Indiana/Indianapolis:20300409T193000
DTSTAMP:20260422T185244
CREATED:20221011T184737Z
LAST-MODIFIED:20251219T164825Z
UID:10005163-1901988000-1901993400@stillwater-hospice.org
SUMMARY:Auburn Grief Support Group
DESCRIPTION:For any loss due to death\n2nd & 4th Tuesday of each month • 6-7:30 p.m.\nPlease call (260) 435-3261 or email GriefCenter@stillwater-hospice.org by the Wednesday prior to each meeting to complete the required registration.
URL:https://stillwater-hospice.org/event/auburn-grief-support-group-3/2030-04-09/
LOCATION:First Christian Church\, 910 N. Indiana Ave.\, Auburn\, IN\, United States
END:VEVENT
BEGIN:VEVENT
DTSTART;TZID=America/Indiana/Indianapolis:20300423T180000
DTEND;TZID=America/Indiana/Indianapolis:20300423T193000
DTSTAMP:20260422T185244
CREATED:20221109T230157Z
LAST-MODIFIED:20251219T164757Z
UID:10005224-1903197600-1903203000@stillwater-hospice.org
SUMMARY:Auburn Grief Support Group
DESCRIPTION:For any loss due to death\n2nd & 4th Tuesday of each month • 6-7:30 p.m.\nPlease call (260) 435-3261 or email GriefCenter@stillwater-hospice.org by the Wednesday prior to each meeting to complete the required registration.
URL:https://stillwater-hospice.org/event/auburn-grief-support-group-2/2030-04-23/
LOCATION:First Christian Church\, 910 N. Indiana Ave.\, Auburn\, IN\, United States
END:VEVENT
BEGIN:VEVENT
DTSTART;TZID=America/Indiana/Indianapolis:20300514T180000
DTEND;TZID=America/Indiana/Indianapolis:20300514T193000
DTSTAMP:20260422T185244
CREATED:20221011T184737Z
LAST-MODIFIED:20251219T164825Z
UID:10005164-1905012000-1905017400@stillwater-hospice.org
SUMMARY:Auburn Grief Support Group
DESCRIPTION:For any loss due to death\n2nd & 4th Tuesday of each month • 6-7:30 p.m.\nPlease call (260) 435-3261 or email GriefCenter@stillwater-hospice.org by the Wednesday prior to each meeting to complete the required registration.
URL:https://stillwater-hospice.org/event/auburn-grief-support-group-3/2030-05-14/
LOCATION:First Christian Church\, 910 N. Indiana Ave.\, Auburn\, IN\, United States
END:VEVENT
BEGIN:VEVENT
DTSTART;TZID=America/Indiana/Indianapolis:20300528T180000
DTEND;TZID=America/Indiana/Indianapolis:20300528T193000
DTSTAMP:20260422T185244
CREATED:20221109T230157Z
LAST-MODIFIED:20251219T164757Z
UID:10005225-1906221600-1906227000@stillwater-hospice.org
SUMMARY:Auburn Grief Support Group
DESCRIPTION:For any loss due to death\n2nd & 4th Tuesday of each month • 6-7:30 p.m.\nPlease call (260) 435-3261 or email GriefCenter@stillwater-hospice.org by the Wednesday prior to each meeting to complete the required registration.
URL:https://stillwater-hospice.org/event/auburn-grief-support-group-2/2030-05-28/
LOCATION:First Christian Church\, 910 N. Indiana Ave.\, Auburn\, IN\, United States
END:VEVENT
BEGIN:VEVENT
DTSTART;TZID=America/Indiana/Indianapolis:20300611T180000
DTEND;TZID=America/Indiana/Indianapolis:20300611T193000
DTSTAMP:20260422T185244
CREATED:20221011T184737Z
LAST-MODIFIED:20251219T164825Z
UID:10005165-1907431200-1907436600@stillwater-hospice.org
SUMMARY:Auburn Grief Support Group
DESCRIPTION:For any loss due to death\n2nd & 4th Tuesday of each month • 6-7:30 p.m.\nPlease call (260) 435-3261 or email GriefCenter@stillwater-hospice.org by the Wednesday prior to each meeting to complete the required registration.
URL:https://stillwater-hospice.org/event/auburn-grief-support-group-3/2030-06-11/
LOCATION:First Christian Church\, 910 N. Indiana Ave.\, Auburn\, IN\, United States
END:VEVENT
BEGIN:VEVENT
DTSTART;TZID=America/Indiana/Indianapolis:20300625T180000
DTEND;TZID=America/Indiana/Indianapolis:20300625T193000
DTSTAMP:20260422T185244
CREATED:20221109T230157Z
LAST-MODIFIED:20251219T164757Z
UID:10005226-1908640800-1908646200@stillwater-hospice.org
SUMMARY:Auburn Grief Support Group
DESCRIPTION:For any loss due to death\n2nd & 4th Tuesday of each month • 6-7:30 p.m.\nPlease call (260) 435-3261 or email GriefCenter@stillwater-hospice.org by the Wednesday prior to each meeting to complete the required registration.
URL:https://stillwater-hospice.org/event/auburn-grief-support-group-2/2030-06-25/
LOCATION:First Christian Church\, 910 N. Indiana Ave.\, Auburn\, IN\, United States
END:VEVENT
BEGIN:VEVENT
DTSTART;TZID=America/Indiana/Indianapolis:20300709T180000
DTEND;TZID=America/Indiana/Indianapolis:20300709T193000
DTSTAMP:20260422T185244
CREATED:20221011T184737Z
LAST-MODIFIED:20251219T164825Z
UID:10005166-1909850400-1909855800@stillwater-hospice.org
SUMMARY:Auburn Grief Support Group
DESCRIPTION:For any loss due to death\n2nd & 4th Tuesday of each month • 6-7:30 p.m.\nPlease call (260) 435-3261 or email GriefCenter@stillwater-hospice.org by the Wednesday prior to each meeting to complete the required registration.
URL:https://stillwater-hospice.org/event/auburn-grief-support-group-3/2030-07-09/
LOCATION:First Christian Church\, 910 N. Indiana Ave.\, Auburn\, IN\, United States
END:VEVENT
END:VCALENDAR