BEGIN:VCALENDAR
VERSION:2.0
PRODID:-//Stillwater Hospice - ECPv6.15.20//NONSGML v1.0//EN
CALSCALE:GREGORIAN
METHOD:PUBLISH
X-WR-CALNAME:Stillwater Hospice
X-ORIGINAL-URL:https://stillwater-hospice.org
X-WR-CALDESC:Events for Stillwater Hospice
REFRESH-INTERVAL;VALUE=DURATION:PT1H
X-Robots-Tag:noindex
X-PUBLISHED-TTL:PT1H
BEGIN:VTIMEZONE
TZID:America/Indiana/Indianapolis
BEGIN:DAYLIGHT
TZOFFSETFROM:-0500
TZOFFSETTO:-0400
TZNAME:EDT
DTSTART:20260308T070000
END:DAYLIGHT
BEGIN:STANDARD
TZOFFSETFROM:-0400
TZOFFSETTO:-0500
TZNAME:EST
DTSTART:20261101T060000
END:STANDARD
BEGIN:DAYLIGHT
TZOFFSETFROM:-0500
TZOFFSETTO:-0400
TZNAME:EDT
DTSTART:20270314T070000
END:DAYLIGHT
BEGIN:STANDARD
TZOFFSETFROM:-0400
TZOFFSETTO:-0500
TZNAME:EST
DTSTART:20271107T060000
END:STANDARD
BEGIN:DAYLIGHT
TZOFFSETFROM:-0500
TZOFFSETTO:-0400
TZNAME:EDT
DTSTART:20280312T070000
END:DAYLIGHT
BEGIN:STANDARD
TZOFFSETFROM:-0400
TZOFFSETTO:-0500
TZNAME:EST
DTSTART:20281105T060000
END:STANDARD
BEGIN:DAYLIGHT
TZOFFSETFROM:-0500
TZOFFSETTO:-0400
TZNAME:EDT
DTSTART:20290311T070000
END:DAYLIGHT
BEGIN:STANDARD
TZOFFSETFROM:-0400
TZOFFSETTO:-0500
TZNAME:EST
DTSTART:20291104T060000
END:STANDARD
END:VTIMEZONE
BEGIN:VEVENT
DTSTART;TZID=America/Indiana/Indianapolis:20270503T183000
DTEND;TZID=America/Indiana/Indianapolis:20270503T193000
DTSTAMP:20260422T123937
CREATED:20221011T184519Z
LAST-MODIFIED:20230425T222608Z
UID:10003289-1809369000-1809372600@stillwater-hospice.org
SUMMARY:Stellhorn Grief Support Group
DESCRIPTION:For any loss due to death. 1st & 3rd Monday of each month • 6:30-7:30 p.m. Please call (260) 435-3261 to register. RSVPs are needed by the Wednesday prior to the meeting date.
URL:https://stillwater-hospice.org/event/stellhorn-grief-support-group/2027-05-03/
LOCATION:Messiah Lutheran Church\, 7211 Stellhorn Road\, Fort Wayne\, IN\, 46815
END:VEVENT
BEGIN:VEVENT
DTSTART;TZID=America/Indiana/Indianapolis:20270517T183000
DTEND;TZID=America/Indiana/Indianapolis:20270517T193000
DTSTAMP:20260422T123937
CREATED:20221013T100006Z
LAST-MODIFIED:20230425T222531Z
UID:10003585-1810578600-1810582200@stillwater-hospice.org
SUMMARY:Stellhorn Grief Support Group
DESCRIPTION:For any loss due to death. 1st & 3rd Monday of each month • 6:30-7:30 p.m. Please call (260) 435-3261 to register. RSVPs are needed by the Wednesday prior to the meeting date.
URL:https://stillwater-hospice.org/event/stellhorn-grief-support-group-2/2027-05-17/
LOCATION:Messiah Lutheran Church\, 7211 Stellhorn Road\, Fort Wayne\, IN\, 46815
END:VEVENT
BEGIN:VEVENT
DTSTART;TZID=America/Indiana/Indianapolis:20270607T183000
DTEND;TZID=America/Indiana/Indianapolis:20270607T193000
DTSTAMP:20260422T123937
CREATED:20221011T184519Z
LAST-MODIFIED:20230425T222608Z
UID:10003290-1812393000-1812396600@stillwater-hospice.org
SUMMARY:Stellhorn Grief Support Group
DESCRIPTION:For any loss due to death. 1st & 3rd Monday of each month • 6:30-7:30 p.m. Please call (260) 435-3261 to register. RSVPs are needed by the Wednesday prior to the meeting date.
URL:https://stillwater-hospice.org/event/stellhorn-grief-support-group/2027-06-07/
LOCATION:Messiah Lutheran Church\, 7211 Stellhorn Road\, Fort Wayne\, IN\, 46815
END:VEVENT
BEGIN:VEVENT
DTSTART;TZID=America/Indiana/Indianapolis:20270621T183000
DTEND;TZID=America/Indiana/Indianapolis:20270621T193000
DTSTAMP:20260422T123937
CREATED:20221013T100006Z
LAST-MODIFIED:20230425T222531Z
UID:10003586-1813602600-1813606200@stillwater-hospice.org
SUMMARY:Stellhorn Grief Support Group
DESCRIPTION:For any loss due to death. 1st & 3rd Monday of each month • 6:30-7:30 p.m. Please call (260) 435-3261 to register. RSVPs are needed by the Wednesday prior to the meeting date.
URL:https://stillwater-hospice.org/event/stellhorn-grief-support-group-2/2027-06-21/
LOCATION:Messiah Lutheran Church\, 7211 Stellhorn Road\, Fort Wayne\, IN\, 46815
END:VEVENT
BEGIN:VEVENT
DTSTART;TZID=America/Indiana/Indianapolis:20270705T183000
DTEND;TZID=America/Indiana/Indianapolis:20270705T193000
DTSTAMP:20260422T123937
CREATED:20221011T184519Z
LAST-MODIFIED:20230425T222608Z
UID:10003291-1814812200-1814815800@stillwater-hospice.org
SUMMARY:Stellhorn Grief Support Group
DESCRIPTION:For any loss due to death. 1st & 3rd Monday of each month • 6:30-7:30 p.m. Please call (260) 435-3261 to register. RSVPs are needed by the Wednesday prior to the meeting date.
URL:https://stillwater-hospice.org/event/stellhorn-grief-support-group/2027-07-05/
LOCATION:Messiah Lutheran Church\, 7211 Stellhorn Road\, Fort Wayne\, IN\, 46815
END:VEVENT
BEGIN:VEVENT
DTSTART;TZID=America/Indiana/Indianapolis:20270719T183000
DTEND;TZID=America/Indiana/Indianapolis:20270719T193000
DTSTAMP:20260422T123937
CREATED:20221013T100006Z
LAST-MODIFIED:20230425T222531Z
UID:10003587-1816021800-1816025400@stillwater-hospice.org
SUMMARY:Stellhorn Grief Support Group
DESCRIPTION:For any loss due to death. 1st & 3rd Monday of each month • 6:30-7:30 p.m. Please call (260) 435-3261 to register. RSVPs are needed by the Wednesday prior to the meeting date.
URL:https://stillwater-hospice.org/event/stellhorn-grief-support-group-2/2027-07-19/
LOCATION:Messiah Lutheran Church\, 7211 Stellhorn Road\, Fort Wayne\, IN\, 46815
END:VEVENT
BEGIN:VEVENT
DTSTART;TZID=America/Indiana/Indianapolis:20270802T183000
DTEND;TZID=America/Indiana/Indianapolis:20270802T193000
DTSTAMP:20260422T123937
CREATED:20221011T184519Z
LAST-MODIFIED:20230425T222608Z
UID:10003292-1817231400-1817235000@stillwater-hospice.org
SUMMARY:Stellhorn Grief Support Group
DESCRIPTION:For any loss due to death. 1st & 3rd Monday of each month • 6:30-7:30 p.m. Please call (260) 435-3261 to register. RSVPs are needed by the Wednesday prior to the meeting date.
URL:https://stillwater-hospice.org/event/stellhorn-grief-support-group/2027-08-02/
LOCATION:Messiah Lutheran Church\, 7211 Stellhorn Road\, Fort Wayne\, IN\, 46815
END:VEVENT
BEGIN:VEVENT
DTSTART;TZID=America/Indiana/Indianapolis:20270816T183000
DTEND;TZID=America/Indiana/Indianapolis:20270816T193000
DTSTAMP:20260422T123937
CREATED:20221013T100006Z
LAST-MODIFIED:20230425T222531Z
UID:10003588-1818441000-1818444600@stillwater-hospice.org
SUMMARY:Stellhorn Grief Support Group
DESCRIPTION:For any loss due to death. 1st & 3rd Monday of each month • 6:30-7:30 p.m. Please call (260) 435-3261 to register. RSVPs are needed by the Wednesday prior to the meeting date.
URL:https://stillwater-hospice.org/event/stellhorn-grief-support-group-2/2027-08-16/
LOCATION:Messiah Lutheran Church\, 7211 Stellhorn Road\, Fort Wayne\, IN\, 46815
END:VEVENT
BEGIN:VEVENT
DTSTART;TZID=America/Indiana/Indianapolis:20270906T183000
DTEND;TZID=America/Indiana/Indianapolis:20270906T193000
DTSTAMP:20260422T123937
CREATED:20221011T184519Z
LAST-MODIFIED:20230425T222608Z
UID:10003293-1820255400-1820259000@stillwater-hospice.org
SUMMARY:Stellhorn Grief Support Group
DESCRIPTION:For any loss due to death. 1st & 3rd Monday of each month • 6:30-7:30 p.m. Please call (260) 435-3261 to register. RSVPs are needed by the Wednesday prior to the meeting date.
URL:https://stillwater-hospice.org/event/stellhorn-grief-support-group/2027-09-06/
LOCATION:Messiah Lutheran Church\, 7211 Stellhorn Road\, Fort Wayne\, IN\, 46815
END:VEVENT
BEGIN:VEVENT
DTSTART;TZID=America/Indiana/Indianapolis:20270920T183000
DTEND;TZID=America/Indiana/Indianapolis:20270920T193000
DTSTAMP:20260422T123937
CREATED:20221013T100006Z
LAST-MODIFIED:20230425T222531Z
UID:10003589-1821465000-1821468600@stillwater-hospice.org
SUMMARY:Stellhorn Grief Support Group
DESCRIPTION:For any loss due to death. 1st & 3rd Monday of each month • 6:30-7:30 p.m. Please call (260) 435-3261 to register. RSVPs are needed by the Wednesday prior to the meeting date.
URL:https://stillwater-hospice.org/event/stellhorn-grief-support-group-2/2027-09-20/
LOCATION:Messiah Lutheran Church\, 7211 Stellhorn Road\, Fort Wayne\, IN\, 46815
END:VEVENT
BEGIN:VEVENT
DTSTART;TZID=America/Indiana/Indianapolis:20271004T183000
DTEND;TZID=America/Indiana/Indianapolis:20271004T193000
DTSTAMP:20260422T123937
CREATED:20221011T184519Z
LAST-MODIFIED:20230425T222608Z
UID:10003294-1822674600-1822678200@stillwater-hospice.org
SUMMARY:Stellhorn Grief Support Group
DESCRIPTION:For any loss due to death. 1st & 3rd Monday of each month • 6:30-7:30 p.m. Please call (260) 435-3261 to register. RSVPs are needed by the Wednesday prior to the meeting date.
URL:https://stillwater-hospice.org/event/stellhorn-grief-support-group/2027-10-04/
LOCATION:Messiah Lutheran Church\, 7211 Stellhorn Road\, Fort Wayne\, IN\, 46815
END:VEVENT
BEGIN:VEVENT
DTSTART;TZID=America/Indiana/Indianapolis:20271018T183000
DTEND;TZID=America/Indiana/Indianapolis:20271018T193000
DTSTAMP:20260422T123937
CREATED:20221013T100006Z
LAST-MODIFIED:20230425T222531Z
UID:10003590-1823884200-1823887800@stillwater-hospice.org
SUMMARY:Stellhorn Grief Support Group
DESCRIPTION:For any loss due to death. 1st & 3rd Monday of each month • 6:30-7:30 p.m. Please call (260) 435-3261 to register. RSVPs are needed by the Wednesday prior to the meeting date.
URL:https://stillwater-hospice.org/event/stellhorn-grief-support-group-2/2027-10-18/
LOCATION:Messiah Lutheran Church\, 7211 Stellhorn Road\, Fort Wayne\, IN\, 46815
END:VEVENT
BEGIN:VEVENT
DTSTART;TZID=America/Indiana/Indianapolis:20271101T183000
DTEND;TZID=America/Indiana/Indianapolis:20271101T193000
DTSTAMP:20260422T123937
CREATED:20221011T184519Z
LAST-MODIFIED:20230425T222608Z
UID:10003295-1825093800-1825097400@stillwater-hospice.org
SUMMARY:Stellhorn Grief Support Group
DESCRIPTION:For any loss due to death. 1st & 3rd Monday of each month • 6:30-7:30 p.m. Please call (260) 435-3261 to register. RSVPs are needed by the Wednesday prior to the meeting date.
URL:https://stillwater-hospice.org/event/stellhorn-grief-support-group/2027-11-01/
LOCATION:Messiah Lutheran Church\, 7211 Stellhorn Road\, Fort Wayne\, IN\, 46815
END:VEVENT
BEGIN:VEVENT
DTSTART;TZID=America/Indiana/Indianapolis:20271115T183000
DTEND;TZID=America/Indiana/Indianapolis:20271115T193000
DTSTAMP:20260422T123937
CREATED:20221013T100006Z
LAST-MODIFIED:20230425T222531Z
UID:10003591-1826303400-1826307000@stillwater-hospice.org
SUMMARY:Stellhorn Grief Support Group
DESCRIPTION:For any loss due to death. 1st & 3rd Monday of each month • 6:30-7:30 p.m. Please call (260) 435-3261 to register. RSVPs are needed by the Wednesday prior to the meeting date.
URL:https://stillwater-hospice.org/event/stellhorn-grief-support-group-2/2027-11-15/
LOCATION:Messiah Lutheran Church\, 7211 Stellhorn Road\, Fort Wayne\, IN\, 46815
END:VEVENT
BEGIN:VEVENT
DTSTART;TZID=America/Indiana/Indianapolis:20271206T183000
DTEND;TZID=America/Indiana/Indianapolis:20271206T193000
DTSTAMP:20260422T123937
CREATED:20221011T184519Z
LAST-MODIFIED:20230425T222608Z
UID:10003296-1828117800-1828121400@stillwater-hospice.org
SUMMARY:Stellhorn Grief Support Group
DESCRIPTION:For any loss due to death. 1st & 3rd Monday of each month • 6:30-7:30 p.m. Please call (260) 435-3261 to register. RSVPs are needed by the Wednesday prior to the meeting date.
URL:https://stillwater-hospice.org/event/stellhorn-grief-support-group/2027-12-06/
LOCATION:Messiah Lutheran Church\, 7211 Stellhorn Road\, Fort Wayne\, IN\, 46815
END:VEVENT
BEGIN:VEVENT
DTSTART;TZID=America/Indiana/Indianapolis:20271220T183000
DTEND;TZID=America/Indiana/Indianapolis:20271220T193000
DTSTAMP:20260422T123937
CREATED:20221013T100006Z
LAST-MODIFIED:20230425T222531Z
UID:10003592-1829327400-1829331000@stillwater-hospice.org
SUMMARY:Stellhorn Grief Support Group
DESCRIPTION:For any loss due to death. 1st & 3rd Monday of each month • 6:30-7:30 p.m. Please call (260) 435-3261 to register. RSVPs are needed by the Wednesday prior to the meeting date.
URL:https://stillwater-hospice.org/event/stellhorn-grief-support-group-2/2027-12-20/
LOCATION:Messiah Lutheran Church\, 7211 Stellhorn Road\, Fort Wayne\, IN\, 46815
END:VEVENT
BEGIN:VEVENT
DTSTART;TZID=America/Indiana/Indianapolis:20280103T183000
DTEND;TZID=America/Indiana/Indianapolis:20280103T193000
DTSTAMP:20260422T123937
CREATED:20221011T184519Z
LAST-MODIFIED:20230425T222608Z
UID:10003297-1830537000-1830540600@stillwater-hospice.org
SUMMARY:Stellhorn Grief Support Group
DESCRIPTION:For any loss due to death. 1st & 3rd Monday of each month • 6:30-7:30 p.m. Please call (260) 435-3261 to register. RSVPs are needed by the Wednesday prior to the meeting date.
URL:https://stillwater-hospice.org/event/stellhorn-grief-support-group/2028-01-03/
LOCATION:Messiah Lutheran Church\, 7211 Stellhorn Road\, Fort Wayne\, IN\, 46815
END:VEVENT
BEGIN:VEVENT
DTSTART;TZID=America/Indiana/Indianapolis:20280117T183000
DTEND;TZID=America/Indiana/Indianapolis:20280117T193000
DTSTAMP:20260422T123937
CREATED:20221013T100006Z
LAST-MODIFIED:20230425T222531Z
UID:10003593-1831746600-1831750200@stillwater-hospice.org
SUMMARY:Stellhorn Grief Support Group
DESCRIPTION:For any loss due to death. 1st & 3rd Monday of each month • 6:30-7:30 p.m. Please call (260) 435-3261 to register. RSVPs are needed by the Wednesday prior to the meeting date.
URL:https://stillwater-hospice.org/event/stellhorn-grief-support-group-2/2028-01-17/
LOCATION:Messiah Lutheran Church\, 7211 Stellhorn Road\, Fort Wayne\, IN\, 46815
END:VEVENT
BEGIN:VEVENT
DTSTART;TZID=America/Indiana/Indianapolis:20280207T183000
DTEND;TZID=America/Indiana/Indianapolis:20280207T193000
DTSTAMP:20260422T123937
CREATED:20221011T184519Z
LAST-MODIFIED:20230425T222608Z
UID:10003298-1833561000-1833564600@stillwater-hospice.org
SUMMARY:Stellhorn Grief Support Group
DESCRIPTION:For any loss due to death. 1st & 3rd Monday of each month • 6:30-7:30 p.m. Please call (260) 435-3261 to register. RSVPs are needed by the Wednesday prior to the meeting date.
URL:https://stillwater-hospice.org/event/stellhorn-grief-support-group/2028-02-07/
LOCATION:Messiah Lutheran Church\, 7211 Stellhorn Road\, Fort Wayne\, IN\, 46815
END:VEVENT
BEGIN:VEVENT
DTSTART;TZID=America/Indiana/Indianapolis:20280221T183000
DTEND;TZID=America/Indiana/Indianapolis:20280221T193000
DTSTAMP:20260422T123937
CREATED:20221013T100006Z
LAST-MODIFIED:20230425T222531Z
UID:10003594-1834770600-1834774200@stillwater-hospice.org
SUMMARY:Stellhorn Grief Support Group
DESCRIPTION:For any loss due to death. 1st & 3rd Monday of each month • 6:30-7:30 p.m. Please call (260) 435-3261 to register. RSVPs are needed by the Wednesday prior to the meeting date.
URL:https://stillwater-hospice.org/event/stellhorn-grief-support-group-2/2028-02-21/
LOCATION:Messiah Lutheran Church\, 7211 Stellhorn Road\, Fort Wayne\, IN\, 46815
END:VEVENT
BEGIN:VEVENT
DTSTART;TZID=America/Indiana/Indianapolis:20280306T183000
DTEND;TZID=America/Indiana/Indianapolis:20280306T193000
DTSTAMP:20260422T123937
CREATED:20221011T184519Z
LAST-MODIFIED:20230425T222608Z
UID:10003299-1835980200-1835983800@stillwater-hospice.org
SUMMARY:Stellhorn Grief Support Group
DESCRIPTION:For any loss due to death. 1st & 3rd Monday of each month • 6:30-7:30 p.m. Please call (260) 435-3261 to register. RSVPs are needed by the Wednesday prior to the meeting date.
URL:https://stillwater-hospice.org/event/stellhorn-grief-support-group/2028-03-06/
LOCATION:Messiah Lutheran Church\, 7211 Stellhorn Road\, Fort Wayne\, IN\, 46815
END:VEVENT
BEGIN:VEVENT
DTSTART;TZID=America/Indiana/Indianapolis:20280320T183000
DTEND;TZID=America/Indiana/Indianapolis:20280320T193000
DTSTAMP:20260422T123937
CREATED:20221013T100006Z
LAST-MODIFIED:20230425T222531Z
UID:10003595-1837189800-1837193400@stillwater-hospice.org
SUMMARY:Stellhorn Grief Support Group
DESCRIPTION:For any loss due to death. 1st & 3rd Monday of each month • 6:30-7:30 p.m. Please call (260) 435-3261 to register. RSVPs are needed by the Wednesday prior to the meeting date.
URL:https://stillwater-hospice.org/event/stellhorn-grief-support-group-2/2028-03-20/
LOCATION:Messiah Lutheran Church\, 7211 Stellhorn Road\, Fort Wayne\, IN\, 46815
END:VEVENT
BEGIN:VEVENT
DTSTART;TZID=America/Indiana/Indianapolis:20280403T183000
DTEND;TZID=America/Indiana/Indianapolis:20280403T193000
DTSTAMP:20260422T123937
CREATED:20221011T184519Z
LAST-MODIFIED:20230425T222608Z
UID:10003300-1838399400-1838403000@stillwater-hospice.org
SUMMARY:Stellhorn Grief Support Group
DESCRIPTION:For any loss due to death. 1st & 3rd Monday of each month • 6:30-7:30 p.m. Please call (260) 435-3261 to register. RSVPs are needed by the Wednesday prior to the meeting date.
URL:https://stillwater-hospice.org/event/stellhorn-grief-support-group/2028-04-03/
LOCATION:Messiah Lutheran Church\, 7211 Stellhorn Road\, Fort Wayne\, IN\, 46815
END:VEVENT
BEGIN:VEVENT
DTSTART;TZID=America/Indiana/Indianapolis:20280417T183000
DTEND;TZID=America/Indiana/Indianapolis:20280417T193000
DTSTAMP:20260422T123937
CREATED:20221013T100006Z
LAST-MODIFIED:20230425T222531Z
UID:10003596-1839609000-1839612600@stillwater-hospice.org
SUMMARY:Stellhorn Grief Support Group
DESCRIPTION:For any loss due to death. 1st & 3rd Monday of each month • 6:30-7:30 p.m. Please call (260) 435-3261 to register. RSVPs are needed by the Wednesday prior to the meeting date.
URL:https://stillwater-hospice.org/event/stellhorn-grief-support-group-2/2028-04-17/
LOCATION:Messiah Lutheran Church\, 7211 Stellhorn Road\, Fort Wayne\, IN\, 46815
END:VEVENT
BEGIN:VEVENT
DTSTART;TZID=America/Indiana/Indianapolis:20280501T183000
DTEND;TZID=America/Indiana/Indianapolis:20280501T193000
DTSTAMP:20260422T123937
CREATED:20221011T184519Z
LAST-MODIFIED:20230425T222608Z
UID:10003301-1840818600-1840822200@stillwater-hospice.org
SUMMARY:Stellhorn Grief Support Group
DESCRIPTION:For any loss due to death. 1st & 3rd Monday of each month • 6:30-7:30 p.m. Please call (260) 435-3261 to register. RSVPs are needed by the Wednesday prior to the meeting date.
URL:https://stillwater-hospice.org/event/stellhorn-grief-support-group/2028-05-01/
LOCATION:Messiah Lutheran Church\, 7211 Stellhorn Road\, Fort Wayne\, IN\, 46815
END:VEVENT
BEGIN:VEVENT
DTSTART;TZID=America/Indiana/Indianapolis:20280515T183000
DTEND;TZID=America/Indiana/Indianapolis:20280515T193000
DTSTAMP:20260422T123937
CREATED:20221013T100006Z
LAST-MODIFIED:20230425T222531Z
UID:10003597-1842028200-1842031800@stillwater-hospice.org
SUMMARY:Stellhorn Grief Support Group
DESCRIPTION:For any loss due to death. 1st & 3rd Monday of each month • 6:30-7:30 p.m. Please call (260) 435-3261 to register. RSVPs are needed by the Wednesday prior to the meeting date.
URL:https://stillwater-hospice.org/event/stellhorn-grief-support-group-2/2028-05-15/
LOCATION:Messiah Lutheran Church\, 7211 Stellhorn Road\, Fort Wayne\, IN\, 46815
END:VEVENT
BEGIN:VEVENT
DTSTART;TZID=America/Indiana/Indianapolis:20280605T183000
DTEND;TZID=America/Indiana/Indianapolis:20280605T193000
DTSTAMP:20260422T123937
CREATED:20221011T184519Z
LAST-MODIFIED:20230425T222608Z
UID:10003302-1843842600-1843846200@stillwater-hospice.org
SUMMARY:Stellhorn Grief Support Group
DESCRIPTION:For any loss due to death. 1st & 3rd Monday of each month • 6:30-7:30 p.m. Please call (260) 435-3261 to register. RSVPs are needed by the Wednesday prior to the meeting date.
URL:https://stillwater-hospice.org/event/stellhorn-grief-support-group/2028-06-05/
LOCATION:Messiah Lutheran Church\, 7211 Stellhorn Road\, Fort Wayne\, IN\, 46815
END:VEVENT
BEGIN:VEVENT
DTSTART;TZID=America/Indiana/Indianapolis:20280619T183000
DTEND;TZID=America/Indiana/Indianapolis:20280619T193000
DTSTAMP:20260422T123937
CREATED:20221013T100006Z
LAST-MODIFIED:20230425T222531Z
UID:10003598-1845052200-1845055800@stillwater-hospice.org
SUMMARY:Stellhorn Grief Support Group
DESCRIPTION:For any loss due to death. 1st & 3rd Monday of each month • 6:30-7:30 p.m. Please call (260) 435-3261 to register. RSVPs are needed by the Wednesday prior to the meeting date.
URL:https://stillwater-hospice.org/event/stellhorn-grief-support-group-2/2028-06-19/
LOCATION:Messiah Lutheran Church\, 7211 Stellhorn Road\, Fort Wayne\, IN\, 46815
END:VEVENT
BEGIN:VEVENT
DTSTART;TZID=America/Indiana/Indianapolis:20280703T183000
DTEND;TZID=America/Indiana/Indianapolis:20280703T193000
DTSTAMP:20260422T123937
CREATED:20221011T184519Z
LAST-MODIFIED:20230425T222608Z
UID:10003303-1846261800-1846265400@stillwater-hospice.org
SUMMARY:Stellhorn Grief Support Group
DESCRIPTION:For any loss due to death. 1st & 3rd Monday of each month • 6:30-7:30 p.m. Please call (260) 435-3261 to register. RSVPs are needed by the Wednesday prior to the meeting date.
URL:https://stillwater-hospice.org/event/stellhorn-grief-support-group/2028-07-03/
LOCATION:Messiah Lutheran Church\, 7211 Stellhorn Road\, Fort Wayne\, IN\, 46815
END:VEVENT
BEGIN:VEVENT
DTSTART;TZID=America/Indiana/Indianapolis:20280717T183000
DTEND;TZID=America/Indiana/Indianapolis:20280717T193000
DTSTAMP:20260422T123937
CREATED:20221013T100006Z
LAST-MODIFIED:20230425T222531Z
UID:10003599-1847471400-1847475000@stillwater-hospice.org
SUMMARY:Stellhorn Grief Support Group
DESCRIPTION:For any loss due to death. 1st & 3rd Monday of each month • 6:30-7:30 p.m. Please call (260) 435-3261 to register. RSVPs are needed by the Wednesday prior to the meeting date.
URL:https://stillwater-hospice.org/event/stellhorn-grief-support-group-2/2028-07-17/
LOCATION:Messiah Lutheran Church\, 7211 Stellhorn Road\, Fort Wayne\, IN\, 46815
END:VEVENT
END:VCALENDAR