BEGIN:VCALENDAR
VERSION:2.0
PRODID:-//Stillwater Hospice - ECPv6.15.20//NONSGML v1.0//EN
CALSCALE:GREGORIAN
METHOD:PUBLISH
X-ORIGINAL-URL:https://stillwater-hospice.org
X-WR-CALDESC:Events for Stillwater Hospice
REFRESH-INTERVAL;VALUE=DURATION:PT1H
X-Robots-Tag:noindex
X-PUBLISHED-TTL:PT1H
BEGIN:VTIMEZONE
TZID:America/Indiana/Indianapolis
BEGIN:DAYLIGHT
TZOFFSETFROM:-0500
TZOFFSETTO:-0400
TZNAME:EDT
DTSTART:20270314T070000
END:DAYLIGHT
BEGIN:STANDARD
TZOFFSETFROM:-0400
TZOFFSETTO:-0500
TZNAME:EST
DTSTART:20271107T060000
END:STANDARD
BEGIN:DAYLIGHT
TZOFFSETFROM:-0500
TZOFFSETTO:-0400
TZNAME:EDT
DTSTART:20280312T070000
END:DAYLIGHT
BEGIN:STANDARD
TZOFFSETFROM:-0400
TZOFFSETTO:-0500
TZNAME:EST
DTSTART:20281105T060000
END:STANDARD
BEGIN:DAYLIGHT
TZOFFSETFROM:-0500
TZOFFSETTO:-0400
TZNAME:EDT
DTSTART:20290311T070000
END:DAYLIGHT
BEGIN:STANDARD
TZOFFSETFROM:-0400
TZOFFSETTO:-0500
TZNAME:EST
DTSTART:20291104T060000
END:STANDARD
BEGIN:DAYLIGHT
TZOFFSETFROM:-0500
TZOFFSETTO:-0400
TZNAME:EDT
DTSTART:20300310T070000
END:DAYLIGHT
BEGIN:STANDARD
TZOFFSETFROM:-0400
TZOFFSETTO:-0500
TZNAME:EST
DTSTART:20301103T060000
END:STANDARD
BEGIN:DAYLIGHT
TZOFFSETFROM:-0500
TZOFFSETTO:-0400
TZNAME:EDT
DTSTART:20310309T070000
END:DAYLIGHT
BEGIN:STANDARD
TZOFFSETFROM:-0400
TZOFFSETTO:-0500
TZNAME:EST
DTSTART:20311102T060000
END:STANDARD
END:VTIMEZONE
BEGIN:VEVENT
DTSTART;TZID=America/Indiana/Indianapolis:20281106T183000
DTEND;TZID=America/Indiana/Indianapolis:20281106T193000
DTSTAMP:20260422T171644
CREATED:20221011T184519Z
LAST-MODIFIED:20230425T222608Z
UID:10003307-1857148200-1857151800@stillwater-hospice.org
SUMMARY:Stellhorn Grief Support Group
DESCRIPTION:For any loss due to death. 1st & 3rd Monday of each month • 6:30-7:30 p.m. Please call (260) 435-3261 to register. RSVPs are needed by the Wednesday prior to the meeting date.
URL:https://stillwater-hospice.org/event/stellhorn-grief-support-group/2028-11-06/
LOCATION:Messiah Lutheran Church\, 7211 Stellhorn Road\, Fort Wayne\, IN\, 46815
END:VEVENT
BEGIN:VEVENT
DTSTART;TZID=America/Indiana/Indianapolis:20281120T183000
DTEND;TZID=America/Indiana/Indianapolis:20281120T193000
DTSTAMP:20260422T171644
CREATED:20221013T100006Z
LAST-MODIFIED:20230425T222531Z
UID:10003603-1858357800-1858361400@stillwater-hospice.org
SUMMARY:Stellhorn Grief Support Group
DESCRIPTION:For any loss due to death. 1st & 3rd Monday of each month • 6:30-7:30 p.m. Please call (260) 435-3261 to register. RSVPs are needed by the Wednesday prior to the meeting date.
URL:https://stillwater-hospice.org/event/stellhorn-grief-support-group-2/2028-11-20/
LOCATION:Messiah Lutheran Church\, 7211 Stellhorn Road\, Fort Wayne\, IN\, 46815
END:VEVENT
BEGIN:VEVENT
DTSTART;TZID=America/Indiana/Indianapolis:20281204T183000
DTEND;TZID=America/Indiana/Indianapolis:20281204T193000
DTSTAMP:20260422T171644
CREATED:20221011T184519Z
LAST-MODIFIED:20230425T222608Z
UID:10003308-1859567400-1859571000@stillwater-hospice.org
SUMMARY:Stellhorn Grief Support Group
DESCRIPTION:For any loss due to death. 1st & 3rd Monday of each month • 6:30-7:30 p.m. Please call (260) 435-3261 to register. RSVPs are needed by the Wednesday prior to the meeting date.
URL:https://stillwater-hospice.org/event/stellhorn-grief-support-group/2028-12-04/
LOCATION:Messiah Lutheran Church\, 7211 Stellhorn Road\, Fort Wayne\, IN\, 46815
END:VEVENT
BEGIN:VEVENT
DTSTART;TZID=America/Indiana/Indianapolis:20281218T183000
DTEND;TZID=America/Indiana/Indianapolis:20281218T193000
DTSTAMP:20260422T171644
CREATED:20221013T100006Z
LAST-MODIFIED:20230425T222531Z
UID:10003604-1860777000-1860780600@stillwater-hospice.org
SUMMARY:Stellhorn Grief Support Group
DESCRIPTION:For any loss due to death. 1st & 3rd Monday of each month • 6:30-7:30 p.m. Please call (260) 435-3261 to register. RSVPs are needed by the Wednesday prior to the meeting date.
URL:https://stillwater-hospice.org/event/stellhorn-grief-support-group-2/2028-12-18/
LOCATION:Messiah Lutheran Church\, 7211 Stellhorn Road\, Fort Wayne\, IN\, 46815
END:VEVENT
BEGIN:VEVENT
DTSTART;TZID=America/Indiana/Indianapolis:20290101T183000
DTEND;TZID=America/Indiana/Indianapolis:20290101T193000
DTSTAMP:20260422T171644
CREATED:20221011T184519Z
LAST-MODIFIED:20230425T222608Z
UID:10003309-1861986600-1861990200@stillwater-hospice.org
SUMMARY:Stellhorn Grief Support Group
DESCRIPTION:For any loss due to death. 1st & 3rd Monday of each month • 6:30-7:30 p.m. Please call (260) 435-3261 to register. RSVPs are needed by the Wednesday prior to the meeting date.
URL:https://stillwater-hospice.org/event/stellhorn-grief-support-group/2029-01-01/
LOCATION:Messiah Lutheran Church\, 7211 Stellhorn Road\, Fort Wayne\, IN\, 46815
END:VEVENT
BEGIN:VEVENT
DTSTART;TZID=America/Indiana/Indianapolis:20290115T183000
DTEND;TZID=America/Indiana/Indianapolis:20290115T193000
DTSTAMP:20260422T171644
CREATED:20221013T100006Z
LAST-MODIFIED:20230425T222531Z
UID:10003605-1863196200-1863199800@stillwater-hospice.org
SUMMARY:Stellhorn Grief Support Group
DESCRIPTION:For any loss due to death. 1st & 3rd Monday of each month • 6:30-7:30 p.m. Please call (260) 435-3261 to register. RSVPs are needed by the Wednesday prior to the meeting date.
URL:https://stillwater-hospice.org/event/stellhorn-grief-support-group-2/2029-01-15/
LOCATION:Messiah Lutheran Church\, 7211 Stellhorn Road\, Fort Wayne\, IN\, 46815
END:VEVENT
BEGIN:VEVENT
DTSTART;TZID=America/Indiana/Indianapolis:20290205T183000
DTEND;TZID=America/Indiana/Indianapolis:20290205T193000
DTSTAMP:20260422T171644
CREATED:20221011T184519Z
LAST-MODIFIED:20230425T222608Z
UID:10003310-1865010600-1865014200@stillwater-hospice.org
SUMMARY:Stellhorn Grief Support Group
DESCRIPTION:For any loss due to death. 1st & 3rd Monday of each month • 6:30-7:30 p.m. Please call (260) 435-3261 to register. RSVPs are needed by the Wednesday prior to the meeting date.
URL:https://stillwater-hospice.org/event/stellhorn-grief-support-group/2029-02-05/
LOCATION:Messiah Lutheran Church\, 7211 Stellhorn Road\, Fort Wayne\, IN\, 46815
END:VEVENT
BEGIN:VEVENT
DTSTART;TZID=America/Indiana/Indianapolis:20290219T183000
DTEND;TZID=America/Indiana/Indianapolis:20290219T193000
DTSTAMP:20260422T171644
CREATED:20221013T100006Z
LAST-MODIFIED:20230425T222531Z
UID:10003606-1866220200-1866223800@stillwater-hospice.org
SUMMARY:Stellhorn Grief Support Group
DESCRIPTION:For any loss due to death. 1st & 3rd Monday of each month • 6:30-7:30 p.m. Please call (260) 435-3261 to register. RSVPs are needed by the Wednesday prior to the meeting date.
URL:https://stillwater-hospice.org/event/stellhorn-grief-support-group-2/2029-02-19/
LOCATION:Messiah Lutheran Church\, 7211 Stellhorn Road\, Fort Wayne\, IN\, 46815
END:VEVENT
BEGIN:VEVENT
DTSTART;TZID=America/Indiana/Indianapolis:20290305T183000
DTEND;TZID=America/Indiana/Indianapolis:20290305T193000
DTSTAMP:20260422T171644
CREATED:20221011T184519Z
LAST-MODIFIED:20230425T222608Z
UID:10003311-1867429800-1867433400@stillwater-hospice.org
SUMMARY:Stellhorn Grief Support Group
DESCRIPTION:For any loss due to death. 1st & 3rd Monday of each month • 6:30-7:30 p.m. Please call (260) 435-3261 to register. RSVPs are needed by the Wednesday prior to the meeting date.
URL:https://stillwater-hospice.org/event/stellhorn-grief-support-group/2029-03-05/
LOCATION:Messiah Lutheran Church\, 7211 Stellhorn Road\, Fort Wayne\, IN\, 46815
END:VEVENT
BEGIN:VEVENT
DTSTART;TZID=America/Indiana/Indianapolis:20290319T183000
DTEND;TZID=America/Indiana/Indianapolis:20290319T193000
DTSTAMP:20260422T171644
CREATED:20221013T100006Z
LAST-MODIFIED:20230425T222531Z
UID:10003607-1868639400-1868643000@stillwater-hospice.org
SUMMARY:Stellhorn Grief Support Group
DESCRIPTION:For any loss due to death. 1st & 3rd Monday of each month • 6:30-7:30 p.m. Please call (260) 435-3261 to register. RSVPs are needed by the Wednesday prior to the meeting date.
URL:https://stillwater-hospice.org/event/stellhorn-grief-support-group-2/2029-03-19/
LOCATION:Messiah Lutheran Church\, 7211 Stellhorn Road\, Fort Wayne\, IN\, 46815
END:VEVENT
BEGIN:VEVENT
DTSTART;TZID=America/Indiana/Indianapolis:20290402T183000
DTEND;TZID=America/Indiana/Indianapolis:20290402T193000
DTSTAMP:20260422T171644
CREATED:20221011T184519Z
LAST-MODIFIED:20230425T222608Z
UID:10003312-1869849000-1869852600@stillwater-hospice.org
SUMMARY:Stellhorn Grief Support Group
DESCRIPTION:For any loss due to death. 1st & 3rd Monday of each month • 6:30-7:30 p.m. Please call (260) 435-3261 to register. RSVPs are needed by the Wednesday prior to the meeting date.
URL:https://stillwater-hospice.org/event/stellhorn-grief-support-group/2029-04-02/
LOCATION:Messiah Lutheran Church\, 7211 Stellhorn Road\, Fort Wayne\, IN\, 46815
END:VEVENT
BEGIN:VEVENT
DTSTART;TZID=America/Indiana/Indianapolis:20290416T183000
DTEND;TZID=America/Indiana/Indianapolis:20290416T193000
DTSTAMP:20260422T171644
CREATED:20221013T100006Z
LAST-MODIFIED:20230425T222531Z
UID:10003608-1871058600-1871062200@stillwater-hospice.org
SUMMARY:Stellhorn Grief Support Group
DESCRIPTION:For any loss due to death. 1st & 3rd Monday of each month • 6:30-7:30 p.m. Please call (260) 435-3261 to register. RSVPs are needed by the Wednesday prior to the meeting date.
URL:https://stillwater-hospice.org/event/stellhorn-grief-support-group-2/2029-04-16/
LOCATION:Messiah Lutheran Church\, 7211 Stellhorn Road\, Fort Wayne\, IN\, 46815
END:VEVENT
BEGIN:VEVENT
DTSTART;TZID=America/Indiana/Indianapolis:20290507T183000
DTEND;TZID=America/Indiana/Indianapolis:20290507T193000
DTSTAMP:20260422T171645
CREATED:20221011T184519Z
LAST-MODIFIED:20230425T222608Z
UID:10003313-1872873000-1872876600@stillwater-hospice.org
SUMMARY:Stellhorn Grief Support Group
DESCRIPTION:For any loss due to death. 1st & 3rd Monday of each month • 6:30-7:30 p.m. Please call (260) 435-3261 to register. RSVPs are needed by the Wednesday prior to the meeting date.
URL:https://stillwater-hospice.org/event/stellhorn-grief-support-group/2029-05-07/
LOCATION:Messiah Lutheran Church\, 7211 Stellhorn Road\, Fort Wayne\, IN\, 46815
END:VEVENT
BEGIN:VEVENT
DTSTART;TZID=America/Indiana/Indianapolis:20290521T183000
DTEND;TZID=America/Indiana/Indianapolis:20290521T193000
DTSTAMP:20260422T171645
CREATED:20221013T100006Z
LAST-MODIFIED:20230425T222531Z
UID:10003609-1874082600-1874086200@stillwater-hospice.org
SUMMARY:Stellhorn Grief Support Group
DESCRIPTION:For any loss due to death. 1st & 3rd Monday of each month • 6:30-7:30 p.m. Please call (260) 435-3261 to register. RSVPs are needed by the Wednesday prior to the meeting date.
URL:https://stillwater-hospice.org/event/stellhorn-grief-support-group-2/2029-05-21/
LOCATION:Messiah Lutheran Church\, 7211 Stellhorn Road\, Fort Wayne\, IN\, 46815
END:VEVENT
BEGIN:VEVENT
DTSTART;TZID=America/Indiana/Indianapolis:20290604T183000
DTEND;TZID=America/Indiana/Indianapolis:20290604T193000
DTSTAMP:20260422T171645
CREATED:20221011T184519Z
LAST-MODIFIED:20230425T222608Z
UID:10003314-1875292200-1875295800@stillwater-hospice.org
SUMMARY:Stellhorn Grief Support Group
DESCRIPTION:For any loss due to death. 1st & 3rd Monday of each month • 6:30-7:30 p.m. Please call (260) 435-3261 to register. RSVPs are needed by the Wednesday prior to the meeting date.
URL:https://stillwater-hospice.org/event/stellhorn-grief-support-group/2029-06-04/
LOCATION:Messiah Lutheran Church\, 7211 Stellhorn Road\, Fort Wayne\, IN\, 46815
END:VEVENT
BEGIN:VEVENT
DTSTART;TZID=America/Indiana/Indianapolis:20290618T183000
DTEND;TZID=America/Indiana/Indianapolis:20290618T193000
DTSTAMP:20260422T171645
CREATED:20221013T100006Z
LAST-MODIFIED:20230425T222531Z
UID:10003610-1876501800-1876505400@stillwater-hospice.org
SUMMARY:Stellhorn Grief Support Group
DESCRIPTION:For any loss due to death. 1st & 3rd Monday of each month • 6:30-7:30 p.m. Please call (260) 435-3261 to register. RSVPs are needed by the Wednesday prior to the meeting date.
URL:https://stillwater-hospice.org/event/stellhorn-grief-support-group-2/2029-06-18/
LOCATION:Messiah Lutheran Church\, 7211 Stellhorn Road\, Fort Wayne\, IN\, 46815
END:VEVENT
BEGIN:VEVENT
DTSTART;TZID=America/Indiana/Indianapolis:20290702T183000
DTEND;TZID=America/Indiana/Indianapolis:20290702T193000
DTSTAMP:20260422T171645
CREATED:20221011T184519Z
LAST-MODIFIED:20230425T222608Z
UID:10003315-1877711400-1877715000@stillwater-hospice.org
SUMMARY:Stellhorn Grief Support Group
DESCRIPTION:For any loss due to death. 1st & 3rd Monday of each month • 6:30-7:30 p.m. Please call (260) 435-3261 to register. RSVPs are needed by the Wednesday prior to the meeting date.
URL:https://stillwater-hospice.org/event/stellhorn-grief-support-group/2029-07-02/
LOCATION:Messiah Lutheran Church\, 7211 Stellhorn Road\, Fort Wayne\, IN\, 46815
END:VEVENT
BEGIN:VEVENT
DTSTART;TZID=America/Indiana/Indianapolis:20290716T183000
DTEND;TZID=America/Indiana/Indianapolis:20290716T193000
DTSTAMP:20260422T171645
CREATED:20221013T100006Z
LAST-MODIFIED:20230425T222531Z
UID:10003611-1878921000-1878924600@stillwater-hospice.org
SUMMARY:Stellhorn Grief Support Group
DESCRIPTION:For any loss due to death. 1st & 3rd Monday of each month • 6:30-7:30 p.m. Please call (260) 435-3261 to register. RSVPs are needed by the Wednesday prior to the meeting date.
URL:https://stillwater-hospice.org/event/stellhorn-grief-support-group-2/2029-07-16/
LOCATION:Messiah Lutheran Church\, 7211 Stellhorn Road\, Fort Wayne\, IN\, 46815
END:VEVENT
BEGIN:VEVENT
DTSTART;TZID=America/Indiana/Indianapolis:20290806T183000
DTEND;TZID=America/Indiana/Indianapolis:20290806T193000
DTSTAMP:20260422T171645
CREATED:20221011T184519Z
LAST-MODIFIED:20230425T222608Z
UID:10003679-1880735400-1880739000@stillwater-hospice.org
SUMMARY:Stellhorn Grief Support Group
DESCRIPTION:For any loss due to death. 1st & 3rd Monday of each month • 6:30-7:30 p.m. Please call (260) 435-3261 to register. RSVPs are needed by the Wednesday prior to the meeting date.
URL:https://stillwater-hospice.org/event/stellhorn-grief-support-group/2029-08-06/
LOCATION:Messiah Lutheran Church\, 7211 Stellhorn Road\, Fort Wayne\, IN\, 46815
END:VEVENT
BEGIN:VEVENT
DTSTART;TZID=America/Indiana/Indianapolis:20290820T183000
DTEND;TZID=America/Indiana/Indianapolis:20290820T193000
DTSTAMP:20260422T171645
CREATED:20221013T100006Z
LAST-MODIFIED:20230425T222531Z
UID:10003783-1881945000-1881948600@stillwater-hospice.org
SUMMARY:Stellhorn Grief Support Group
DESCRIPTION:For any loss due to death. 1st & 3rd Monday of each month • 6:30-7:30 p.m. Please call (260) 435-3261 to register. RSVPs are needed by the Wednesday prior to the meeting date.
URL:https://stillwater-hospice.org/event/stellhorn-grief-support-group-2/2029-08-20/
LOCATION:Messiah Lutheran Church\, 7211 Stellhorn Road\, Fort Wayne\, IN\, 46815
END:VEVENT
BEGIN:VEVENT
DTSTART;TZID=America/Indiana/Indianapolis:20290903T183000
DTEND;TZID=America/Indiana/Indianapolis:20290903T193000
DTSTAMP:20260422T171645
CREATED:20221011T184519Z
LAST-MODIFIED:20230425T222608Z
UID:10003784-1883154600-1883158200@stillwater-hospice.org
SUMMARY:Stellhorn Grief Support Group
DESCRIPTION:For any loss due to death. 1st & 3rd Monday of each month • 6:30-7:30 p.m. Please call (260) 435-3261 to register. RSVPs are needed by the Wednesday prior to the meeting date.
URL:https://stillwater-hospice.org/event/stellhorn-grief-support-group/2029-09-03/
LOCATION:Messiah Lutheran Church\, 7211 Stellhorn Road\, Fort Wayne\, IN\, 46815
END:VEVENT
BEGIN:VEVENT
DTSTART;TZID=America/Indiana/Indianapolis:20290917T183000
DTEND;TZID=America/Indiana/Indianapolis:20290917T193000
DTSTAMP:20260422T171645
CREATED:20221013T100006Z
LAST-MODIFIED:20230425T222531Z
UID:10004006-1884364200-1884367800@stillwater-hospice.org
SUMMARY:Stellhorn Grief Support Group
DESCRIPTION:For any loss due to death. 1st & 3rd Monday of each month • 6:30-7:30 p.m. Please call (260) 435-3261 to register. RSVPs are needed by the Wednesday prior to the meeting date.
URL:https://stillwater-hospice.org/event/stellhorn-grief-support-group-2/2029-09-17/
LOCATION:Messiah Lutheran Church\, 7211 Stellhorn Road\, Fort Wayne\, IN\, 46815
END:VEVENT
BEGIN:VEVENT
DTSTART;TZID=America/Indiana/Indianapolis:20291001T183000
DTEND;TZID=America/Indiana/Indianapolis:20291001T193000
DTSTAMP:20260422T171645
CREATED:20221011T184519Z
LAST-MODIFIED:20230425T222608Z
UID:10004019-1885573800-1885577400@stillwater-hospice.org
SUMMARY:Stellhorn Grief Support Group
DESCRIPTION:For any loss due to death. 1st & 3rd Monday of each month • 6:30-7:30 p.m. Please call (260) 435-3261 to register. RSVPs are needed by the Wednesday prior to the meeting date.
URL:https://stillwater-hospice.org/event/stellhorn-grief-support-group/2029-10-01/
LOCATION:Messiah Lutheran Church\, 7211 Stellhorn Road\, Fort Wayne\, IN\, 46815
END:VEVENT
BEGIN:VEVENT
DTSTART;TZID=America/Indiana/Indianapolis:20291015T183000
DTEND;TZID=America/Indiana/Indianapolis:20291015T193000
DTSTAMP:20260422T171645
CREATED:20221013T100006Z
LAST-MODIFIED:20230425T222531Z
UID:10004029-1886783400-1886787000@stillwater-hospice.org
SUMMARY:Stellhorn Grief Support Group
DESCRIPTION:For any loss due to death. 1st & 3rd Monday of each month • 6:30-7:30 p.m. Please call (260) 435-3261 to register. RSVPs are needed by the Wednesday prior to the meeting date.
URL:https://stillwater-hospice.org/event/stellhorn-grief-support-group-2/2029-10-15/
LOCATION:Messiah Lutheran Church\, 7211 Stellhorn Road\, Fort Wayne\, IN\, 46815
END:VEVENT
BEGIN:VEVENT
DTSTART;TZID=America/Indiana/Indianapolis:20291105T183000
DTEND;TZID=America/Indiana/Indianapolis:20291105T193000
DTSTAMP:20260422T171645
CREATED:20221011T184519Z
LAST-MODIFIED:20230425T222608Z
UID:10004039-1888597800-1888601400@stillwater-hospice.org
SUMMARY:Stellhorn Grief Support Group
DESCRIPTION:For any loss due to death. 1st & 3rd Monday of each month • 6:30-7:30 p.m. Please call (260) 435-3261 to register. RSVPs are needed by the Wednesday prior to the meeting date.
URL:https://stillwater-hospice.org/event/stellhorn-grief-support-group/2029-11-05/
LOCATION:Messiah Lutheran Church\, 7211 Stellhorn Road\, Fort Wayne\, IN\, 46815
END:VEVENT
BEGIN:VEVENT
DTSTART;TZID=America/Indiana/Indianapolis:20291119T183000
DTEND;TZID=America/Indiana/Indianapolis:20291119T193000
DTSTAMP:20260422T171645
CREATED:20221013T100006Z
LAST-MODIFIED:20230425T222531Z
UID:10004062-1889807400-1889811000@stillwater-hospice.org
SUMMARY:Stellhorn Grief Support Group
DESCRIPTION:For any loss due to death. 1st & 3rd Monday of each month • 6:30-7:30 p.m. Please call (260) 435-3261 to register. RSVPs are needed by the Wednesday prior to the meeting date.
URL:https://stillwater-hospice.org/event/stellhorn-grief-support-group-2/2029-11-19/
LOCATION:Messiah Lutheran Church\, 7211 Stellhorn Road\, Fort Wayne\, IN\, 46815
END:VEVENT
BEGIN:VEVENT
DTSTART;TZID=America/Indiana/Indianapolis:20291203T183000
DTEND;TZID=America/Indiana/Indianapolis:20291203T193000
DTSTAMP:20260422T171645
CREATED:20221011T184519Z
LAST-MODIFIED:20230425T222608Z
UID:10004063-1891017000-1891020600@stillwater-hospice.org
SUMMARY:Stellhorn Grief Support Group
DESCRIPTION:For any loss due to death. 1st & 3rd Monday of each month • 6:30-7:30 p.m. Please call (260) 435-3261 to register. RSVPs are needed by the Wednesday prior to the meeting date.
URL:https://stillwater-hospice.org/event/stellhorn-grief-support-group/2029-12-03/
LOCATION:Messiah Lutheran Church\, 7211 Stellhorn Road\, Fort Wayne\, IN\, 46815
END:VEVENT
BEGIN:VEVENT
DTSTART;TZID=America/Indiana/Indianapolis:20300107T183000
DTEND;TZID=America/Indiana/Indianapolis:20300107T193000
DTSTAMP:20260422T171645
CREATED:20221011T184519Z
LAST-MODIFIED:20230425T222608Z
UID:10004801-1894041000-1894044600@stillwater-hospice.org
SUMMARY:Stellhorn Grief Support Group
DESCRIPTION:For any loss due to death. 1st & 3rd Monday of each month • 6:30-7:30 p.m. Please call (260) 435-3261 to register. RSVPs are needed by the Wednesday prior to the meeting date.
URL:https://stillwater-hospice.org/event/stellhorn-grief-support-group/2030-01-07/
LOCATION:Messiah Lutheran Church\, 7211 Stellhorn Road\, Fort Wayne\, IN\, 46815
END:VEVENT
BEGIN:VEVENT
DTSTART;TZID=America/Indiana/Indianapolis:20300204T183000
DTEND;TZID=America/Indiana/Indianapolis:20300204T193000
DTSTAMP:20260422T171645
CREATED:20221011T184519Z
LAST-MODIFIED:20230425T222608Z
UID:10004802-1896460200-1896463800@stillwater-hospice.org
SUMMARY:Stellhorn Grief Support Group
DESCRIPTION:For any loss due to death. 1st & 3rd Monday of each month • 6:30-7:30 p.m. Please call (260) 435-3261 to register. RSVPs are needed by the Wednesday prior to the meeting date.
URL:https://stillwater-hospice.org/event/stellhorn-grief-support-group/2030-02-04/
LOCATION:Messiah Lutheran Church\, 7211 Stellhorn Road\, Fort Wayne\, IN\, 46815
END:VEVENT
BEGIN:VEVENT
DTSTART;TZID=America/Indiana/Indianapolis:20300304T183000
DTEND;TZID=America/Indiana/Indianapolis:20300304T193000
DTSTAMP:20260422T171645
CREATED:20221011T184519Z
LAST-MODIFIED:20230425T222608Z
UID:10004803-1898879400-1898883000@stillwater-hospice.org
SUMMARY:Stellhorn Grief Support Group
DESCRIPTION:For any loss due to death. 1st & 3rd Monday of each month • 6:30-7:30 p.m. Please call (260) 435-3261 to register. RSVPs are needed by the Wednesday prior to the meeting date.
URL:https://stillwater-hospice.org/event/stellhorn-grief-support-group/2030-03-04/
LOCATION:Messiah Lutheran Church\, 7211 Stellhorn Road\, Fort Wayne\, IN\, 46815
END:VEVENT
END:VCALENDAR